BEGIN:VCALENDAR
VERSION:2.0
PRODID:-//ChamberMaster//Event Calendar 2.0//EN
METHOD:PUBLISH
X-PUBLISHED-TTL:P3D
REFRESH-INTERVAL:P3D
CALSCALE:GREGORIAN
BEGIN:VEVENT
DTSTART:20170317T210000Z
DTEND:20170318T000000Z
X-MICROSOFT-CDO-ALLDAYEVENT:FALSE
SUMMARY:Blairsville Galaxy Bowling Luck of the Irish
DESCRIPTION:Strike on the luck of the Irish head pin and win a free game for your next visit.  St Patrick's Day 3/17/17 from 5pm-8pm.
X-ALT-DESC;FMTTYPE=text/html:Strike on the luck of the Irish head pin and win a free game for your next visit. &nbsp\;St Patrick&#39\;s Day 3/17/17 from 5pm-8pm.&nbsp\;
LOCATION:104 Backyard Lane Blairsville\, Ga 30512
UID:e.256.68414
SEQUENCE:3
DTSTAMP:20260420T043321Z
URL:https://members.visitblairsvillega.com/events/details/blairsville-galaxy-bowling-luck-of-the-irish-68414
END:VEVENT

END:VCALENDAR
