BEGIN:VCALENDAR
VERSION:2.0
PRODID:-//ChamberMaster//Event Calendar 2.0//EN
METHOD:PUBLISH
X-PUBLISHED-TTL:P3D
REFRESH-INTERVAL:P3D
CALSCALE:GREGORIAN
BEGIN:VEVENT
DTSTART:20160822T223000Z
DTEND:20160822T230000Z
X-MICROSOFT-CDO-ALLDAYEVENT:FALSE
SUMMARY:Blairsville Galaxy Bowling Men's League
DESCRIPTION:First meeting will be 8/22/16 at 6:30pm with the first game on 8/29/16 at 6:15pm.  This is a 32 week league and will be the most competitive league in the house.  Teams will be made up of 4 to 5 men.  We look forward to a great fall/winter season!
X-ALT-DESC;FMTTYPE=text/html:First meeting will be 8/22/16 at 6:30pm with the first game on 8/29/16 at 6:15pm. &nbsp\;This is a 32 week league and will be the most competitive league in the house. &nbsp\;Teams will be made up of 4 to 5 men. &nbsp\;We look forward to a great fall/winter season!
LOCATION:104 Backyard Lane Blairsville\, Ga 30512
UID:e.256.55591
SEQUENCE:3
DTSTAMP:20260420T184429Z
URL:https://members.visitblairsvillega.com/events/details/blairsville-galaxy-bowling-men-s-league-08-22-2016-55591
END:VEVENT

END:VCALENDAR
