BEGIN:VCALENDAR
VERSION:2.0
PRODID:-//ChamberMaster//Event Calendar 2.0//EN
METHOD:PUBLISH
X-PUBLISHED-TTL:P3D
REFRESH-INTERVAL:P3D
CALSCALE:GREGORIAN
BEGIN:VEVENT
DTSTART:20170514T180000Z
DTEND:20170515T000000Z
X-MICROSOFT-CDO-ALLDAYEVENT:FALSE
SUMMARY:Blairsville Galaxy Bowling Mother's Day Special
DESCRIPTION:Treat Mom to some great bowling fun with Mom getting BOGO on Mother's Day!
X-ALT-DESC;FMTTYPE=text/html:Treat Mom to some great bowling fun with Mom getting BOGO on Mother&#39\;s Day!&nbsp\;
LOCATION:104 Backyard Lane Blairsville\, Ga 30512
UID:e.256.72233
SEQUENCE:3
DTSTAMP:20260420T010437Z
URL:https://members.visitblairsvillega.com/events/details/blairsville-galaxy-bowling-mother-s-day-special-72233
END:VEVENT

END:VCALENDAR
