BEGIN:VCALENDAR
VERSION:2.0
PRODID:-//ChamberMaster//Event Calendar 2.0//EN
METHOD:PUBLISH
X-PUBLISHED-TTL:P3D
REFRESH-INTERVAL:P3D
CALSCALE:GREGORIAN
BEGIN:VEVENT
DTSTART:20170507T170000Z
DTEND:20170507T220000Z
X-MICROSOFT-CDO-ALLDAYEVENT:FALSE
SUMMARY:Blairsville Galaxy Bowling Tournament
DESCRIPTION:Guaranteed $500 for first place.  Handicap based on last years book standing or bowl scratch.  Squads 1:30 pm\, and 3:30 pm.  Head to head begins at 5:30 pm.  For more info give us a ring or stop in!
X-ALT-DESC;FMTTYPE=text/html:<span style="background-color:rgb(244\, 249\, 251)\; color:rgb(34\, 34\, 34)\; font-family:open sans\,arial\,sans-serif\; font-size:14px">Guaranteed $500 for first place. &nbsp\;Handicap based on last years book standing or bowl scratch. &nbsp\;Squads 1:30 pm\, and 3:30 pm. &nbsp\;Head to head begins at 5:30 pm.&nbsp\; For more info give us a ring or stop in!&nbsp\;</span>
LOCATION:104 Backyard Lane Blairsville\, Ga 30512
UID:e.256.72973
SEQUENCE:3
DTSTAMP:20260420T010427Z
URL:https://members.visitblairsvillega.com/events/details/blairsville-galaxy-bowling-tournament-05-07-2017-72973
END:VEVENT

END:VCALENDAR
