BEGIN:VCALENDAR
VERSION:2.0
PRODID:-//ChamberMaster//Event Calendar 2.0//EN
METHOD:PUBLISH
X-PUBLISHED-TTL:P3D
REFRESH-INTERVAL:P3D
CALSCALE:GREGORIAN
BEGIN:VEVENT
DTSTART:20160820T170000Z
DTEND:20160821T213000Z
X-MICROSOFT-CDO-ALLDAYEVENT:FALSE
SUMMARY:Blairsville Galaxy Bowling Tournament
DESCRIPTION:This is the FIRST tournament for Blairsville Galaxy Bowling!  Guaranteed $500 for first place.  Handicap based on last years book standing or bowl scratch.  For more info give us a ring or stop in!
X-ALT-DESC;FMTTYPE=text/html:This is the FIRST tournament for Blairsville Galaxy Bowling! &nbsp\;Guaranteed $500 for first place. &nbsp\;Handicap based on last years book standing or bowl scratch. &nbsp\;For more info give us a ring or stop in!&nbsp\;
LOCATION:104 Backyard Lane Blairsville\, Ga 30512
UID:e.256.55597
SEQUENCE:3
DTSTAMP:20260420T184301Z
URL:https://members.visitblairsvillega.com/events/details/blairsville-galaxy-bowling-tournament-08-20-2016-55597
END:VEVENT

END:VCALENDAR
