BEGIN:VCALENDAR
VERSION:2.0
PRODID:-//ChamberMaster//Event Calendar 2.0//EN
METHOD:PUBLISH
X-PUBLISHED-TTL:P3D
REFRESH-INTERVAL:P3D
CALSCALE:GREGORIAN
BEGIN:VEVENT
DTSTART:20161022T150000Z
DTEND:20161023T010000Z
X-MICROSOFT-CDO-ALLDAYEVENT:FALSE
SUMMARY:Blairsville Galaxy Bowling Tournament
DESCRIPTION:Guaranteed $500 for first place.  Handicap based on last years book standing or bowl scratch.  Squads 11 am\, 1 pm\, and 3 pm.  Head to head begins at 5 pm.  For more info give us a ring or stop in!
X-ALT-DESC;FMTTYPE=text/html:Guaranteed $500 for first place. &nbsp\;Handicap based on last years book standing or bowl scratch. &nbsp\;Squads 11 am\, 1 pm\, and 3 pm. &nbsp\;Head to head begins at 5 pm.&nbsp\; For more info give us a ring or stop in!&nbsp\;
LOCATION:104 Backyard Lane Blairsville\, Ga 30512
UID:e.256.59310
SEQUENCE:3
DTSTAMP:20260420T131113Z
URL:https://members.visitblairsvillega.com/events/details/blairsville-galaxy-bowling-tournament-59310
END:VEVENT

END:VCALENDAR
