BEGIN:VCALENDAR
VERSION:2.0
PRODID:-//ChamberMaster//Event Calendar 2.0//EN
METHOD:PUBLISH
X-PUBLISHED-TTL:P3D
REFRESH-INTERVAL:P3D
CALSCALE:GREGORIAN
BEGIN:VEVENT
DTSTART:20170211T180000Z
DTEND:20170212T040000Z
X-MICROSOFT-CDO-ALLDAYEVENT:FALSE
SUMMARY:Blairsville Galaxy Bowling Valentine Special
DESCRIPTION:Come and bring your special someone out to bowl with us!\n\n2 games including shoes $10.00 per person\n\n1 whole pizza\, 2 drinks with 1 refill each $10.00
X-ALT-DESC;FMTTYPE=text/html:Come and bring your special someone out to bowl with us!<br />\n2 games including shoes $10.00 per person<br />\n1 whole pizza\, 2 drinks with 1 refill each $10.00
LOCATION:104 Backyard Lane Blairsville\, Ga 30512
UID:e.256.64112
SEQUENCE:3
DTSTAMP:20260420T060955Z
URL:https://members.visitblairsvillega.com/events/details/blairsville-galaxy-bowling-valentine-special-64112
END:VEVENT

END:VCALENDAR
