BEGIN:VCALENDAR
VERSION:2.0
PRODID:-//ChamberMaster//Event Calendar 2.0//EN
METHOD:PUBLISH
X-PUBLISHED-TTL:P3D
REFRESH-INTERVAL:P3D
CALSCALE:GREGORIAN
BEGIN:VEVENT
DTSTART:20150422T130000Z
DTEND:20150422T183000Z
X-MICROSOFT-CDO-ALLDAYEVENT:FALSE
SUMMARY:Blairsville Garden Club
DESCRIPTION:Blairsville Garden Club Presents:\n\n                    PAINT YOUR GARDEN WITH COLOR                                  LANDSCAPE SEMINAR\n\n\n\n ENCORE AZALEAS IN THE GARDEN\n\nMark Maher\, Regional Representative\n\nFlowerwood Nurseries\, Mobile\, Alabama\n\n \n\nSOUTHERN LIVING PLANT COLLECTION         \n\nMark Maher\, Regional Representative\n\n \n\nFLOWERS\, FRAGRANCE & MEDICINE FROM THE GARDEN\n\nDr. Bodie Pennisi\, Associate Professor and Extension Landscape Specialist\n\nCo-Editor-in-Chief\, Scientia Horticulturae\n\nDept. of Horticulture\, University of Georgia\, Griffin Campus\n\n \n\nMOBILE PLANTERS IN THE LANDSCAPE                  \n\nDr. Bodie Pennisi\n\n (A new look at hanging baskets\, pots\, and planters)\n\n \n\nCONIFERS IN GEORGIA                                                             \n\nDr. John Ruter\n\n Professor of Horticulture\, UGA Director of UGA Trial Gardens
X-ALT-DESC;FMTTYPE=text/html:&nbsp\;&nbsp\;&nbsp\;&nbsp\;&nbsp\;&nbsp\;&nbsp\;&nbsp\;&nbsp\;&nbsp\;&nbsp\;&nbsp\;&nbsp\;&nbsp\;&nbsp\;&nbsp\;&nbsp\;&nbsp\;&nbsp\;&nbsp\;&nbsp\;&nbsp\;&nbsp\;&nbsp\;&nbsp\;&nbsp\;&nbsp\;&nbsp\;&nbsp\;&nbsp\;&nbsp\;&nbsp\;Blairsville Garden Club Presents:<br />\n&nbsp\;&nbsp\;&nbsp\;&nbsp\;&nbsp\;&nbsp\;&nbsp\;&nbsp\;&nbsp\;&nbsp\;&nbsp\;&nbsp\;&nbsp\;&nbsp\;&nbsp\;&nbsp\;&nbsp\;&nbsp\;&nbsp\;&nbsp\;<strong><span style="color: black\;"><span style="font-size: medium\;"><span style="font-family: times new roman\;">PAINT YOUR GARDEN WITH COLOR </span></span></span></strong>&nbsp\;&nbsp\;&nbsp\;&nbsp\;&nbsp\;&nbsp\;&nbsp\;&nbsp\;&nbsp\;&nbsp\;&nbsp\;&nbsp\;&nbsp\;&nbsp\;&nbsp\;&nbsp\;&nbsp\;&nbsp\;&nbsp\;&nbsp\;&nbsp\;&nbsp\;&nbsp\;&nbsp\;&nbsp\;&nbsp\;&nbsp\;&nbsp\;&nbsp\;&nbsp\;&nbsp\;&nbsp\;<strong><span style="font-family: times new roman\;">&nbsp\;<span style="color: black\;"><span style="font-size: medium\;">LANDSCAPE SEMINAR</span></span></span></strong><br />\n<br />\n&nbsp\;<strong><span style="font-family: times new roman\;">EN</span><span style="font-size: 10pt\;"><span style="color: black\;"><span style="font-family: times new roman\;"><strong>CORE AZALEAS </strong>IN THE GARDEN<br />\nMark Maher\, Regional Representative</span></span></span></strong><br />\n<strong><span style="font-size: 10pt\;"><span style="color: black\;"><span style="font-family: times new roman\;">Flowerwood Nurseries\, Mobile\, Alabama</span></span></span></strong><br />\n&nbsp\;<br />\n<strong><span style="font-size: 10pt\;"><span style="color: black\;"><span style="font-family: times new roman\;">SOUTHERN LIVING PLANT COLLECTION&nbsp\;&nbsp\;&nbsp\;&nbsp\;&nbsp\;&nbsp\;&nbsp\;&nbsp\;&nbsp\;<br />\nMark Maher\, Regional Representative</span></span></span></strong><br />\n&nbsp\;<br />\n<strong><span style="font-size: 10pt\;"><span style="color: black\;"><span style="font-family: times new roman\;">FLOWERS\, FRAGRANCE &amp\; MEDICINE FROM THE GARDEN</span></span></span></strong><br />\n<strong><span style="font-size: 10pt\;"><span style="color: black\;"><span style="font-family: times new roman\;">Dr. Bodie Pennisi\, Associate Professor and Extension Landscape Specialist</span></span></span></strong><br />\n<strong><span style="font-size: 10pt\;"><span style="color: black\;"><span style="font-family: times new roman\;">Co-Editor-in-Chief\, <em>Scientia Horticulturae</em></span></span></span></strong><br />\n<strong><span style="font-size: 10pt\;"><span style="color: black\;"><span style="font-family: times new roman\;">Dept. of Horticulture\, University of Georgia\, Griffin Campus</span></span></span></strong><br />\n&nbsp\;<br />\n<strong><span style="font-size: 10pt\;"><span style="color: black\;"><span style="font-family: times new roman\;">MOBILE PLANTERS IN THE LANDSCAPE&nbsp\;&nbsp\;&nbsp\;&nbsp\;&nbsp\;&nbsp\;&nbsp\;&nbsp\;&nbsp\;&nbsp\;&nbsp\;&nbsp\;&nbsp\;&nbsp\;&nbsp\;&nbsp\;&nbsp\;&nbsp\;<br />\nDr. Bodie Pennisi</span></span></span></strong><br />\n<strong><span style="font-size: 10pt\;"><span style="color: black\;"><span style="font-family: times new roman\;">&nbsp\;(A new look at hanging baskets\, pots\, and planters)</span></span></span></strong><br />\n&nbsp\;<br />\n<strong><span style="font-size: 10pt\;"><span style="color: black\;"><span style="font-family: times new roman\;">CONIFERS IN GEORGIA&nbsp\;&nbsp\;&nbsp\;&nbsp\;&nbsp\;&nbsp\;&nbsp\;&nbsp\;&nbsp\;&nbsp\;&nbsp\;&nbsp\;&nbsp\;&nbsp\;&nbsp\;&nbsp\;&nbsp\;&nbsp\;&nbsp\;&nbsp\;&nbsp\;&nbsp\;&nbsp\;&nbsp\;&nbsp\;&nbsp\;&nbsp\;&nbsp\;&nbsp\;&nbsp\;&nbsp\;&nbsp\;&nbsp\;&nbsp\;&nbsp\;&nbsp\;&nbsp\;&nbsp\;&nbsp\;&nbsp\;&nbsp\;&nbsp\;&nbsp\;&nbsp\;&nbsp\;&nbsp\;&nbsp\;&nbsp\;&nbsp\;&nbsp\;&nbsp\;&nbsp\;&nbsp\;&nbsp\;&nbsp\;&nbsp\;&nbsp\;&nbsp\;&nbsp\;&nbsp\;&nbsp\;<br />\nDr. John Ruter</span></span></span></strong><br />\n<strong><span style="font-size: 10pt\;"><span style="font-family: times new roman\,serif\;"><span style="color: black\;">&nbsp\;Professor of Horticulture\, UGA Director of UGA Trial Gardens</span></span></span></strong>
LOCATION:Haralson Memorial Civic Center 165 Welborn Street\, Blairsville\, Ga. 30512
UID:e.256.37647
SEQUENCE:3
DTSTAMP:20260423T200712Z
URL:https://members.visitblairsvillega.com/events/details/blairsville-garden-club-04-22-2015-37647
END:VEVENT

END:VCALENDAR
