BEGIN:VCALENDAR
VERSION:2.0
PRODID:-//ChamberMaster//Event Calendar 2.0//EN
METHOD:PUBLISH
X-PUBLISHED-TTL:P3D
REFRESH-INTERVAL:P3D
CALSCALE:GREGORIAN
BEGIN:VEVENT
DTSTART:20140227T203000Z
DTEND:20140227T203000Z
X-MICROSOFT-CDO-ALLDAYEVENT:FALSE
SUMMARY:Blairsville Garden Club - Arbor Day
DESCRIPTION:Blairsville Garden Club will be planting a tree on Thursday\, February 27 at 3:30pm at the Mock House. (next to Builders Way) The Garden Club will provide refreshments. Please try to attend\, meet your friends and make new friends.
X-ALT-DESC;FMTTYPE=text/html:Blairsville Garden Club will be planting a tree on Thursday\, February 27 at 3:30pm at the Mock House. (next to Builders Way) The Garden Club will provide refreshments. Please try to attend\, meet your friends and make new friends.
LOCATION:Mock-Butt House 25 School Street Blairsville\, GA 30512
UID:e.256.23228
SEQUENCE:3
DTSTAMP:20260424T165511Z
URL:https://members.visitblairsvillega.com/events/details/blairsville-garden-club-arbor-day-02-27-2014-23228
END:VEVENT

END:VCALENDAR
