BEGIN:VCALENDAR
VERSION:2.0
PRODID:-//ChamberMaster//Event Calendar 2.0//EN
METHOD:PUBLISH
X-PUBLISHED-TTL:P3D
REFRESH-INTERVAL:P3D
CALSCALE:GREGORIAN
BEGIN:VEVENT
DTSTART:20140327T130000Z
DTEND:20140327T190000Z
X-MICROSOFT-CDO-ALLDAYEVENT:FALSE
SUMMARY:Blairsville Garden Club Landscape Seminar
DESCRIPTION:BLAIRSVILLE GARDEN CLUB LANDSCAPE SEMINAR Thursday\, March 27\, 2014 at Haralson Memorial Civic Center\, Blairsville\, Ga. an educational seminar\, from 9 a.m. to 3 p.m. Cost is $22 per person which includes morning coffee\, snacks\, and lunch. Come and enjoy a day of learning about the benefits and natural beauty of native plants and fauna as part of Georgia's natural resources. The Seminar will feature regional well known speakers who are experts in the topics they bring. Terry Johnson\, retired botanist with Ga. Department of Natural Resources Non Game Division\, is an expert on many species. He will speak about hummingbirds\, "Glittering Fragments of the Rainbow"\, and Bluebirds\, "The Birds That Wear the Sky on Their Backs". Kathryn Litton\, local Garden Club member\, and expert on wildflowers will speak on Native Plants for Pollinators\, showing native plants available locally that are used by butterflies\, bees\, and other insects as food sources. Z Ganaway\, long time Georgia Garden Club member is a registered environmentalist and expert on butterflies. She gives her time and talents to teach about the importance of this mariposa family\, especially the monarch. Robert Brewer\, Extension Agent from Towns County is an expert on honeybees\, and is a certified world judge in Great Britain and Wales. He will round out the speakers list on bees and their role in our society. In addition to great presentations there will be exhibits by local businesses in the field of horticulture related items\, where you can shop for their products and get information. Also educational exhibits will be available to answer your questions and give information on their topics.\n\nRegistration:  \n\n \n\nName_(s)______________________________\n\nAddress_________________City\, State___________________\n\nzip________                                   e-mail______________________\n\nLunch:  _______Ham\, ____Turkey\,        ________Beef\n\nCheck:  $22 per person  \n\nPayable to:  Blairsville Garden Club\, P.O. Box 965\,\n\nBlairsville\, Ga. 30514    - deadline March 20\, please.
X-ALT-DESC;FMTTYPE=text/html:<br />\nBLAIRSVILLE GARDEN CLUB LANDSCAPE SEMINAR Thursday\, March 27\, 2014 at Haralson Memorial Civic Center\, Blairsville\, Ga. an educational seminar\, from 9 a.m. to 3 p.m. Cost is $22 per person which includes morning coffee\, snacks\, and lunch. Come and enjoy a day of learning about the benefits and natural beauty of native plants and fauna as part of Georgia&#39\;s natural resources. The Seminar will feature regional well known speakers who are experts in the topics they bring. Terry Johnson\, retired botanist with Ga. Department of Natural Resources Non Game Division\, is an expert on many species. He will speak about hummingbirds\, &quot\;Glittering Fragments of the Rainbow&quot\;\, and Bluebirds\, &quot\;The Birds That Wear the Sky on Their Backs&quot\;. Kathryn Litton\, local Garden Club member\, and expert on wildflowers will speak on Native Plants for Pollinators\, showing native plants available locally that are used by butterflies\, bees\, and other insects as food sources. Z Ganaway\, long time Georgia Garden Club member is a registered environmentalist and expert on butterflies. She gives her time and talents to teach about the importance of this mariposa family\, especially the monarch. Robert Brewer\, Extension Agent from Towns County is an expert on honeybees\, and is a certified world judge in Great Britain and Wales. He will round out the speakers list on bees and their role in our society. In addition to great presentations there will be exhibits by local businesses in the field of horticulture related items\, where you can shop for their products and get information. Also educational exhibits will be available to answer your questions and give information on their topics.<br />\n<strong><span style="font-size: 14pt\;"><span style="font-family: times new roman\;">Registration:&nbsp\; </span></span></strong><br />\n&nbsp\;<br />\n<strong><span style="font-size: 14pt\;"><span style="font-family: times new roman\;">Name_(s)______________________________</span></span></strong><br />\n<strong><span style="font-size: 14pt\;"><span style="font-family: times new roman\;">Address_________________City\, State___________________</span></span></strong><br />\n<strong><span style="font-size: 14pt\;"><span style="font-family: times new roman\;">zip________&nbsp\; &nbsp\;&nbsp\;&nbsp\;&nbsp\;&nbsp\;&nbsp\;&nbsp\;&nbsp\;&nbsp\;&nbsp\;&nbsp\;&nbsp\;&nbsp\;&nbsp\;&nbsp\;&nbsp\;&nbsp\;&nbsp\;&nbsp\;&nbsp\;&nbsp\;&nbsp\;&nbsp\;&nbsp\; &nbsp\;&nbsp\;&nbsp\;&nbsp\;&nbsp\;&nbsp\;&nbsp\;&nbsp\;e-mail______________________</span></span></strong><br />\n<strong><span style="font-size: 14pt\;"><span style="font-family: times new roman\;">Lunch:&nbsp\; _______Ham\, ____Turkey\,&nbsp\;&nbsp\;&nbsp\;&nbsp\;&nbsp\;&nbsp\;&nbsp\; ________Beef</span></span></strong><br />\n<strong><span style="font-size: 14pt\;"><span style="font-family: times new roman\;">Check:&nbsp\; $22 per person&nbsp\; </span></span></strong><br />\n<strong><span style="font-size: 14pt\;"><span style="font-family: times new roman\;">Payable to:&nbsp\; Blairsville Garden Club\, P.O. Box 965\,</span></span></strong><br />\n<strong><span style="font-size: 14pt\;"><span style="font-family: times new roman\;">Blairsville\, Ga. 30514&nbsp\;&nbsp\;&nbsp\; - deadline March 20\, please.</span></span></strong><br />\n&nbsp\;<br />\n&nbsp\;
LOCATION:Haralson Memorial Civic Center 165 Wellborn Street Blairsville\, GA
UID:e.256.23428
SEQUENCE:3
DTSTAMP:20260424T153421Z
URL:https://members.visitblairsvillega.com/events/details/blairsville-garden-club-landscape-seminar-03-27-2014-23428
END:VEVENT

END:VCALENDAR
