BEGIN:VCALENDAR
VERSION:2.0
PRODID:-//ChamberMaster//Event Calendar 2.0//EN
METHOD:PUBLISH
X-PUBLISHED-TTL:P3D
REFRESH-INTERVAL:P3D
CALSCALE:GREGORIAN
BEGIN:VEVENT
DTSTART:20151204T160000Z
DTEND:20151205T000000Z
X-MICROSOFT-CDO-ALLDAYEVENT:FALSE
SUMMARY:Blairsville Holiday Stop & Shop
DESCRIPTION:If you are needing a special gift for a special family member or friend then come on out to the Blairsville Holiday Stop & Shop.  There will be over 50 home-based business vendors there to cover all your shopping needs.  SANTA CLAUS WILL BE THERE FRIDAY NIGHT FROM 5PM - 7PM!!!!!!!!
X-ALT-DESC;FMTTYPE=text/html:If you are needing a special gift for a special family member or friend then come on out to the Blairsville Holiday Stop &amp\; Shop.&nbsp\; There will be over 50 home-based business vendors there to cover all your shopping needs.&nbsp\; SANTA CLAUS WILL BE THERE FRIDAY NIGHT FROM 5PM - 7PM!!!!!!!!
LOCATION:Union County Civic Center located at 165 Wellborn Street\, Blairsville GA.
UID:e.256.44550
SEQUENCE:3
DTSTAMP:20260421T074523Z
URL:https://members.visitblairsvillega.com/events/details/blairsville-holiday-stop-shop-12-04-2015-44550
END:VEVENT

END:VCALENDAR
