BEGIN:VCALENDAR
VERSION:2.0
PRODID:-//ChamberMaster//Event Calendar 2.0//EN
METHOD:PUBLISH
X-PUBLISHED-TTL:P3D
REFRESH-INTERVAL:P3D
CALSCALE:GREGORIAN
BEGIN:VEVENT
DTSTART:20140908T160000Z
DTEND:20140908T170000Z
X-MICROSOFT-CDO-ALLDAYEVENT:FALSE
SUMMARY:Blairsville Kiwanis Club Weekly Meeting
DESCRIPTION:The Blairsville Kiwanis Club meets Every Monday at Noon. Please Join Us at Steve's SteakHouse - The Cookie Jar Restaurant in Blairsville for Lunch\, and to Learn More About How You Can Join Kiwanis in Serving the Children of our Community.
X-ALT-DESC;FMTTYPE=text/html:<span style="font-size: 14px\;"><span style="font-family: verdana\;"><font color="#000099">The Blairsville Kiwanis Club meets Every Monday at Noon.&nbsp\;Please Join Us at&nbsp\;<span style="font-size: 14px\;">Steve&#39\;s SteakHouse - The Cookie Jar</span>&nbsp\;Restaurant in Blairsville for Lunch\, and to Learn More About How You Can Join Kiwanis in Serving the Children of our Community.</font></span></span>
LOCATION:Steve's SteakHouse - The Cookie Jar 223 Welborn Street Blairsville
UID:e.256.21233
SEQUENCE:3
DTSTAMP:20260424T063512Z
URL:https://members.visitblairsvillega.com/events/details/blairsville-kiwanis-club-weekly-meeting-09-08-2014-21233
END:VEVENT

END:VCALENDAR
