BEGIN:VCALENDAR
VERSION:2.0
PRODID:-//ChamberMaster//Event Calendar 2.0//EN
METHOD:PUBLISH
X-PUBLISHED-TTL:P3D
REFRESH-INTERVAL:P3D
CALSCALE:GREGORIAN
BEGIN:VEVENT
DTSTART:20151207T170000Z
DTEND:20151207T180000Z
X-MICROSOFT-CDO-ALLDAYEVENT:FALSE
SUMMARY:Blairsville Kiwanis Club Weekly Meeting
DESCRIPTION:The Blairsville Kiwanis Club meets Every Monday at Noon. Please Join Us at Steve's SteakHouse - The Cookie Jar Restaurant in Blairsville for Lunch\, and to Learn More About How You Can Join Kiwanis in Serving the Children of our Community.\n\n\n\ntest
X-ALT-DESC;FMTTYPE=text/html:The Blairsville Kiwanis Club meets Every Monday at Noon. Please Join Us at Steve&#39\;s SteakHouse - The Cookie Jar Restaurant in Blairsville for Lunch\, and to Learn More About How You Can Join Kiwanis in Serving the Children of our Community.<br />\n<br />\ntest
LOCATION:Steve's SteakHouse - The Cookie Jar 223 Welborn Street Blairsville
UID:e.256.28862
SEQUENCE:3
DTSTAMP:20260421T074602Z
URL:https://members.visitblairsvillega.com/events/details/blairsville-kiwanis-club-weekly-meeting-12-07-2015-28862
END:VEVENT

END:VCALENDAR
