BEGIN:VCALENDAR
VERSION:2.0
PRODID:-//ChamberMaster//Event Calendar 2.0//EN
METHOD:PUBLISH
X-PUBLISHED-TTL:P3D
REFRESH-INTERVAL:P3D
CALSCALE:GREGORIAN
BEGIN:VEVENT
DTSTART:20160416T160000Z
DTEND:20160417T020000Z
X-MICROSOFT-CDO-ALLDAYEVENT:FALSE
SUMMARY:Blairsville Kiwanis Fair
DESCRIPTION:Carnival rides\, games\, cattle show\, bluegrass music\, food and petting zoo for kids.
X-ALT-DESC;FMTTYPE=text/html:Carnival rides\, games\, cattle show\, bluegrass music\, food and petting zoo for kids.
LOCATION:Airport Industrial Park
UID:e.256.45176
SEQUENCE:3
DTSTAMP:20260421T021913Z
URL:https://members.visitblairsvillega.com/events/details/blairsville-kiwanis-fair-04-16-2016-45176
END:VEVENT

END:VCALENDAR
