BEGIN:VCALENDAR
VERSION:2.0
PRODID:-//ChamberMaster//Event Calendar 2.0//EN
METHOD:PUBLISH
X-PUBLISHED-TTL:P3D
REFRESH-INTERVAL:P3D
CALSCALE:GREGORIAN
BEGIN:VEVENT
DTSTART:20150418T160000Z
DTEND:20150419T010000Z
X-MICROSOFT-CDO-ALLDAYEVENT:FALSE
SUMMARY:Blairsville Kiwanis Fair
DESCRIPTION:It's Time for the Blairsville Kiwanis Mountain Fair April 15 - April 19\, 2015!\n\nFun filled adventure packs a carnival atmosphere\, complete with rides galore. Fair includes: Games Delicious foods Cotton candy\, candy apples A petting zoo Rides like the Carousel\, Cyclops\, the Pirate and the Mega Drop Bluegrass music Cattle show\n\nFree Parking Gate admission - $2 Children under 12 - free Unlimited ride ticket - $15. Single ride tickets also available
X-ALT-DESC;FMTTYPE=text/html:It&#39\;s Time for the Blairsville Kiwanis Mountain Fair April&nbsp\;15 - April 19\, 2015!<br />\nFun filled adventure packs a carnival atmosphere\, complete with rides galore. Fair includes: Games Delicious foods Cotton candy\, candy apples A petting zoo Rides like the Carousel\, Cyclops\, the Pirate and the Mega Drop Bluegrass music Cattle show<br />\nFree Parking Gate admission - $2 Children under 12 - free Unlimited ride ticket - $15. Single ride tickets also available
LOCATION:Airport Industrial Drive\, off of Hwy 515W Blairsville\, GA
UID:e.256.38065
SEQUENCE:3
DTSTAMP:20260423T200208Z
URL:https://members.visitblairsvillega.com/events/details/blairsville-kiwanis-fair-04-18-2015-38065
END:VEVENT

END:VCALENDAR
