BEGIN:VCALENDAR
VERSION:2.0
PRODID:-//ChamberMaster//Event Calendar 2.0//EN
METHOD:PUBLISH
X-PUBLISHED-TTL:P3D
REFRESH-INTERVAL:P3D
CALSCALE:GREGORIAN
BEGIN:VEVENT
DTSTART:20171028T150000Z
DTEND:20171028T160000Z
X-MICROSOFT-CDO-ALLDAYEVENT:FALSE
SUMMARY:Blairsville Parkinson's Disease Support GroupS
DESCRIPTION:Dr. Jorge Juncos\, Neurologist\, Emory Univ. will speak on motion disorders. Union General Hospital\, 2nd floor\, classroom A. Lunch will follow\, $5.00 per person. Call for reservations\, Kay Fordham\, 706-745-8836 or Kfordham@aol.com.
X-ALT-DESC;FMTTYPE=text/html:Dr. Jorge Juncos\, Neurologist\, Emory Univ. will speak on motion disorders. Union General Hospital\, 2nd floor\, classroom A. Lunch will follow\, $5.00 per person. Call for reservations\, Kay Fordham\, 706-745-8836 or Kfordham@aol.com.
LOCATION:Union General Hospital\, 2nd floor\, classroom A.
UID:e.256.76508
SEQUENCE:3
DTSTAMP:20260419T175548Z
URL:https://members.visitblairsvillega.com/events/details/blairsville-parkinson-s-disease-support-groups-76508
END:VEVENT

END:VCALENDAR
