BEGIN:VCALENDAR
VERSION:2.0
PRODID:-//ChamberMaster//Event Calendar 2.0//EN
METHOD:PUBLISH
X-PUBLISHED-TTL:P3D
REFRESH-INTERVAL:P3D
CALSCALE:GREGORIAN
BEGIN:VEVENT
DTSTART:20170617T220000Z
DTEND:20170618T020000Z
X-MICROSOFT-CDO-ALLDAYEVENT:FALSE
SUMMARY:Blairsville Pro Rodeo
DESCRIPTION:Blairsville Pro Rodeo:\n\nBull Riding\n\nBarrel Racing\n\nBronc Riding\n\nCalf Roping\n\nSteer Wrestling\n\nTeam Roping \n\nBareback Riding\n\nBreakaway Roping\n\nWheel Barrow Race\n\nSass n' Saddles Drill Team
X-ALT-DESC;FMTTYPE=text/html:Blairsville Pro Rodeo:<br />\nBull Riding<br />\nBarrel Racing<br />\nBronc Riding<br />\nCalf Roping<br />\nSteer Wrestling<br />\nTeam Roping&nbsp\;<br />\nBareback Riding<br />\nBreakaway Roping<br />\nWheel Barrow Race<br />\nSass n&#39\; Saddles Drill Team
LOCATION:Union County Saddle Club Arena
UID:e.256.74161
SEQUENCE:3
DTSTAMP:20260420T004105Z
URL:https://members.visitblairsvillega.com/events/details/blairsville-pro-rodeo-06-17-2017-74161
END:VEVENT

END:VCALENDAR
