BEGIN:VCALENDAR
VERSION:2.0
PRODID:-//ChamberMaster//Event Calendar 2.0//EN
METHOD:PUBLISH
X-PUBLISHED-TTL:P3D
REFRESH-INTERVAL:P3D
CALSCALE:GREGORIAN
BEGIN:VEVENT
DTSTART:20171007T200000Z
DTEND:20171007T230000Z
X-MICROSOFT-CDO-ALLDAYEVENT:FALSE
SUMMARY:'Blairsville Schools' PTO "Friendraiser"
DESCRIPTION:Grades PreK-12 have fun booths for all ages! Jail-Bail Out-Corn Hole- Cake Walk- Bounce House- Toy Walk- Dunk Tank! Yummy Cakes-Sno-Cones- Popcorn-Basketball Throw- Concessions- And Much More! A Silent Auction will be held for theme baskets\, items and art made by Union County Students! King or Queen of the car rider line will be auctioned and even a Day with Coach Robbins\, Coach Stewart\, Coach Byers\, or Coach Hunter! Come join us for some fall fun\, make friends and help raise money for our schools.
X-ALT-DESC;FMTTYPE=text/html:Grades PreK-12 have fun booths for all ages! Jail-Bail Out-Corn Hole- Cake Walk- Bounce House- Toy Walk- Dunk Tank! Yummy Cakes-Sno-Cones- Popcorn-Basketball Throw- Concessions- And Much More! A Silent Auction will be held for theme baskets\, items and art made by Union County Students! King or Queen of the car rider line will be auctioned and even a Day with Coach Robbins\, Coach Stewart\, Coach Byers\, or Coach Hunter! Come join us for some fall fun\, make friends and help raise money for our schools.
LOCATION:Union County Elementary School
UID:e.256.76116
SEQUENCE:3
DTSTAMP:20260419T160158Z
URL:https://members.visitblairsvillega.com/events/details/blairsville-schools-pto-friendraiser-76116
END:VEVENT

END:VCALENDAR
