BEGIN:VCALENDAR
VERSION:2.0
PRODID:-//ChamberMaster//Event Calendar 2.0//EN
METHOD:PUBLISH
X-PUBLISHED-TTL:P3D
REFRESH-INTERVAL:P3D
CALSCALE:GREGORIAN
BEGIN:VEVENT
DTSTART:20161015T130000Z
DTEND:20161015T210000Z
X-MICROSOFT-CDO-ALLDAYEVENT:FALSE
SUMMARY:Blairsville Sorghum Festival
DESCRIPTION:Celebrate the Art of Sorghum Syrup Making! Arts/Crafts\, Greased Pole Climbin'\, Log Sawin'\, Live Music\, Face Painting\, and Vendors.\n\nOctober 8 th & 15 th - 8pm Traditional Square Dance\n\nOctober 8th at 11 am - Sorghum Parade downtown on the square in Blairsville
X-ALT-DESC;FMTTYPE=text/html:Celebrate the Art of Sorghum Syrup Making! Arts/Crafts\, Greased Pole Climbin'\, Log Sawin'\, Live Music\, Face Painting\, and Vendors.<br>\nOctober 8 th &amp\; 15 th - 8pm Traditional Square Dance<br>\nOctober 8th at 11 am - Sorghum Parade downtown on the square in Blairsville
LOCATION:Meeks Park (1/2 mile west of Blairsville on Hwy 515) Blairsville\, GA
UID:e.256.45591
SEQUENCE:3
DTSTAMP:20260420T131741Z
URL:https://members.visitblairsvillega.com/events/details/blairsville-sorghum-festival-10-15-2016-45591
END:VEVENT

END:VCALENDAR
