BEGIN:VCALENDAR
VERSION:2.0
PRODID:-//ChamberMaster//Event Calendar 2.0//EN
METHOD:PUBLISH
X-PUBLISHED-TTL:P3D
REFRESH-INTERVAL:P3D
CALSCALE:GREGORIAN
BEGIN:VEVENT
DTSTART:20151017T130000Z
DTEND:20151017T210000Z
X-MICROSOFT-CDO-ALLDAYEVENT:FALSE
SUMMARY:Blairsville Sorghum Festival
DESCRIPTION:Celebrate the Art of Sorghum Syrup Making! Arts/Crafts\, Greased Pole Climbin'\, Log Sawin'\, Live Music\, Face Painting\, Vendors.\n\nOctober 10th & 17th - 8pm Traditional Square Dance\n\nOctober 10th 11am - Sorghum Parade downtown on the square in Blairsville
X-ALT-DESC;FMTTYPE=text/html:Celebrate the Art of Sorghum Syrup Making! Arts/Crafts\, Greased Pole Climbin&#39\;\, Log Sawin&#39\;\, Live Music\, Face Painting\, Vendors.<br />\nOctober 10th &amp\; 17th - 8pm Traditional Square Dance<br />\nOctober 10th 11am - Sorghum Parade downtown on the square in Blairsville
LOCATION:Meeks Park (1/2 mile west of Blairsville on Hwy 515) Blairsville\, GA
UID:e.256.27764
SEQUENCE:3
DTSTAMP:20260423T104030Z
URL:https://members.visitblairsvillega.com/events/details/blairsville-sorghum-festival-10-17-2015-27764
END:VEVENT

END:VCALENDAR
