BEGIN:VCALENDAR
VERSION:2.0
PRODID:-//ChamberMaster//Event Calendar 2.0//EN
METHOD:PUBLISH
X-PUBLISHED-TTL:P3D
REFRESH-INTERVAL:P3D
CALSCALE:GREGORIAN
BEGIN:VEVENT
DTSTART:20141019T130000Z
DTEND:20141019T210000Z
X-MICROSOFT-CDO-ALLDAYEVENT:FALSE
SUMMARY:Blairsville Sorghum Festival
DESCRIPTION:Arts\, crafts\, exhibits\, food\, music\, activities\, square dance\, biskit eating\, pole climbing\, log sawing\, horseshoe pitching\, rock throwing and\, of course\, sorghum mill grinding cane & cooking sorghum.
X-ALT-DESC;FMTTYPE=text/html:<span style="font-size: 14px\;"><span style="font-family: comic sans ms\;"><span style="font-weight: bold\;">Arts\, crafts\, exhibits\, food\, music\,&nbsp\;activities\, square dance\, biskit eating\, pole climbing\, log sawing\, horseshoe pitching\, rock throwing and\, of course\, sorghum mill grinding cane &amp\; cooking sorghum.&nbsp\;</span></span></span>
LOCATION:Meeks Park Hwy 515 W Blairsville\, GA
UID:e.256.21843
SEQUENCE:3
DTSTAMP:20260424T045828Z
URL:https://members.visitblairsvillega.com/events/details/blairsville-sorghum-festival-10-19-2014-21843
END:VEVENT

END:VCALENDAR
