BEGIN:VCALENDAR
VERSION:2.0
PRODID:-//ChamberMaster//Event Calendar 2.0//EN
METHOD:PUBLISH
X-PUBLISHED-TTL:P3D
REFRESH-INTERVAL:P3D
CALSCALE:GREGORIAN
BEGIN:VEVENT
DTSTART:20161008T150000Z
DTEND:20161008T160000Z
X-MICROSOFT-CDO-ALLDAYEVENT:FALSE
SUMMARY:Blairsville Sorghum Festival Parade
DESCRIPTION:Parade starts at 11:00am\n\n\n\nNo application needed. Starting point for parade will be at the Old Middle School Gym on School Street. Floats must be registered at entry of the ball field and complete by 9:00 am.  Judging will begin at 9:30.\n\nWe will be giving cash prizes for Best over all\, first\, second\, and third place float winners.  This is a great way for Non-profit organizations\, local charities and churches to raise funds.  Business and personal floats are welcome to participate & will be given the choice of what local charity or organization they would like to donate prize money to\, should they be chosen as a winner.  (We will no longer be doing categories such as civic\, church and commercial.)  Meeting place for the parade is still at the "Old Middle School Gym" top of the hill on School Circle. \n\nPRIZE MONEY IS FOR PARADE FLOATS ONLY.
X-ALT-DESC;FMTTYPE=text/html:<span style="font-size: 14px\;"><span style="font-family: comic sans ms\;"><span style="font-weight: normal\;"><strong>Parade starts at 11:00am</strong><br />\n<br />\nNo application needed. Starting point for parade will be at the Old Middle School Gym on School Street.&nbsp\;Floats must be registered at entry of the ball field and complete by 9:00 am.&nbsp\; Judging will begin at 9:30.</span><br />\n<span style="font-weight: normal\;"><span style="font-weight: normal\;">We will be giving cash prizes for Best over all\, first\, second\, and third place float winners.&nbsp\; This is a great way for Non-profit organizations\, local charities and churches to raise funds.&nbsp\; Business and personal floats are welcome to participate &amp\; will be given the choice of what local charity or organization they would like to donate prize money to\, should they be chosen as a winner.&nbsp\; </span><b>(We will no longer be doing categories such as civic\, church and commercial.)</b>&nbsp\; Meeting place for the parade is still at the &quot\;Old Middle School Gym&quot\; top of the hill on School Circle. </span></span></span>\n\n<p sans="" style="color: rgb(27\, 27\, 27)\; font-family: verdana\, helvetica\,\;"><span style="font-size: 14px\;"><span style="font-weight: normal\;"><span style="font-family: comic sans ms\;"><span style="font-size: 12px\;"><b>PRIZE MONEY IS FOR PARADE FLOATS ONLY.</b></span></span></span></span></p>\n<br />\n&nbsp\;
LOCATION:Downtown Blairsville on the Square
UID:e.256.47696
SEQUENCE:3
DTSTAMP:20260420T131741Z
URL:https://members.visitblairsvillega.com/events/details/blairsville-sorghum-festival-parade-10-08-2016-47696
END:VEVENT

END:VCALENDAR
