BEGIN:VCALENDAR
VERSION:2.0
PRODID:-//ChamberMaster//Event Calendar 2.0//EN
METHOD:PUBLISH
X-PUBLISHED-TTL:P3D
REFRESH-INTERVAL:P3D
CALSCALE:GREGORIAN
BEGIN:VEVENT
DTSTART:20170118T130000Z
DTEND:20170118T140000Z
X-MICROSOFT-CDO-ALLDAYEVENT:FALSE
SUMMARY:Blairsville-Union County Chamber Town Hall
DESCRIPTION:All Chamber members are invited to attend this year's Town Hall meeting.  Topics will include:\n\n*  The Buy Local Program -- Successes and Recommendations\n\n*  Suggestions or program ideas that YOU believe would help your business\n\n*  Official roll-out of the "B2B Leads Group" available to members only
X-ALT-DESC;FMTTYPE=text/html:All Chamber members are invited to attend this year&#39\;s Town Hall meeting.&nbsp\; Topics will include:<br />\n*&nbsp\; The Buy Local Program -- Successes and Recommendations<br />\n*&nbsp\; Suggestions or program ideas that YOU believe would help your business<br />\n*&nbsp\; Official roll-out of the &quot\;B2B Leads Group&quot\; available to members only
LOCATION:Blairsville-Union County Chamber of Commerce Union County Community Center 129 Union Country Recreation Road Blairsville\, GA 30512 (2nd Floor Ballroom)
UID:e.256.62172
SEQUENCE:3
DTSTAMP:20260420T075747Z
URL:https://members.visitblairsvillega.com/events/details/blairsville-union-county-chamber-town-hall-62172
END:VEVENT

END:VCALENDAR
