BEGIN:VCALENDAR
VERSION:2.0
PRODID:-//ChamberMaster//Event Calendar 2.0//EN
METHOD:PUBLISH
X-PUBLISHED-TTL:P3D
REFRESH-INTERVAL:P3D
CALSCALE:GREGORIAN
BEGIN:VEVENT
DTSTART:20141210T190000Z
DTEND:20141210T210000Z
X-MICROSOFT-CDO-ALLDAYEVENT:FALSE
SUMMARY:Blessings & Bling Premier Designs Jewelry Fundraiser for WUCG-93.1
DESCRIPTION:Join Jan and Dr. Larry Flegle for an exclusive fundraising event to benefit WUCG-93.1 featuring Premier Designs Jewelry. WUCG-93.1 is a community-based non-profit organization that broadcast to Blairsville and Union County. "Fall Into Fabulous and learn the Power of Accessories! " Jewelry is the #1 gift item\n\n"Pick something out for your someone special for Christmas!" Learn how to simply update your look by accessorizing with Premier Designs stylish and affordable Jewelry!\n\nA portion of Jeweler's profit will be donated to WUCG-93.1 to support their station expenses so that Jan and Dr. Larry Flegle can continue to provide quality community radio in our area.
X-ALT-DESC;FMTTYPE=text/html:Join Jan and Dr. Larry Flegle for an exclusive fundraising event to benefit WUCG-93.1 featuring Premier Designs Jewelry. WUCG-93.1 is a community-based non-profit organization that broadcast to Blairsville and Union County. &quot\;Fall Into Fabulous and learn the Power of Accessories!&nbsp\;&quot\; Jewelry is the #1 gift item<br />\n&quot\;Pick something out for your someone special for Christmas!&quot\; Learn how to simply update your look by accessorizing with Premier Designs stylish and affordable Jewelry!<br />\nA portion of Jeweler&#39\;s profit will be donated to WUCG-93.1 to support their station expenses so that Jan and Dr. Larry Flegle can continue to provide quality community radio in our area.
LOCATION:The Blairsville Restaurant 40 Earnest Street Blairsville\, GA
UID:e.256.28041
SEQUENCE:3
DTSTAMP:20260424T020617Z
URL:https://members.visitblairsvillega.com/events/details/blessings-bling-premier-designs-jewelry-fundraiser-for-wucg-93-1-12-10-2014-28041
END:VEVENT

END:VCALENDAR
