BEGIN:VCALENDAR
VERSION:2.0
PRODID:-//ChamberMaster//Event Calendar 2.0//EN
METHOD:PUBLISH
X-PUBLISHED-TTL:P3D
REFRESH-INTERVAL:P3D
CALSCALE:GREGORIAN
BEGIN:VEVENT
DTSTART:20140211T150000Z
DTEND:20140212T045500Z
X-MICROSOFT-CDO-ALLDAYEVENT:FALSE
SUMMARY:Blizzard Party
DESCRIPTION:"Did You Know .. In The Snow\n\n	Virtual Mary Kay Blizzard Party"\n\n	https://www.facebook.com/events/1478366885724089\nFacts and Huge Discounts while snuggled\, Participate in my Virtual Mary Kay Blizzard Party.\n\n\n\nEvery few hours I will pick a product\, post Videos\, Facts\, Tips\, and Testimonies. I will answer any questions you may have. Feel free to post and share your thoughts as we go along HAVE FUN! And watch for Special Discounts along the way.\n\nEnjoy your product sleigh ride savings today!\n\n\n\nMystery Hostess Gift credits and EARN FREE PRODUCTS: Invite and encourage your friends to place an ONLINE order on my website http://www.marykay.com/rford102 between now and Thursday midnight (be sure to have them mention your name as their Hostess on checkout) for additional entries.\n\nHow this works: Your personal order will earn you one entry into the drawing for the Valentine Hostess Gift and every person you invite (they MUST list you as their Hostess on their order checkout) will earn you another entry.\n\n\n\nIN ADDITION spend your Blizzard Bucks with Snow Savings!\n\nIF ALL your guest's orders combined total is\n\n**** $200 or more you will earn $18 Satin Lips Set Gift free. Click this link to view this product: http://www.marykay.com/rford102/en-US/Gifts- /Satin-Lips-Set/180301.partId?eCatId=10670\n\n****$300 or more you will earn $34 Satin Hands Peach Set Gift free. Click this link to view this product: http://www.marykay.com/rford102/en-US/Body-Sun/Peach-Satin-Hands-Pampering-Set/160308.partId?eCatId=10001\n\n****$400 or more you will earn $50 Microdermabrasion Set Gift free. Click this link to view this product: http://www.marykay.com/rford102/en-US/Skin-Care/TimeWise-Microdermabrasion-Set/100723.partId?eCatId=10026\n\n****$500 or more you will earn $90 TimeWise Miracle Set Gift free. Click this link to view this product: http://www.marykay.com/rford102/en-US/Skin-Care/TimeWise-Miracle-Set-normal/dry-/100752.partId?eCatId=10026\n\n\n\nTry to invite as many people as you can to earn you greater savings. Simply share this event with your friends (who currently are not serviced by a Mary Kay Consultant) and be sure to have them list you as their Hostess. They in turn can invite their friends and earn the same.\n\n\n\nHAVE FUN and many ANTI-Aging blessings are in store for you   STAY WARM and hydrate your skin. Happy Snow Day and Safety to all!\n\n\n\n\n	Talk Soon and Be Blessed In ALL You Do!\n\n	Roberta\n\n	http://www.marykay.com/rford102\n\n	Shop with me online 24/7   \n\n	706.897.0245\nhttps://www.facebook.com/roberta.ford2\n\nAdopt-a-Grandparent for Christmas 2014\n\nhttps://www.facebook.com/Adopt.a.Grandparent.NOGA
X-ALT-DESC;FMTTYPE=text/html:<p align="center" class="MsoNormal" style="text-align: center\;">\n	<font size="4"><span><b><span style="line-height: 115%\;">&ldquo\;Did You Know&hellip\;.. In The Snow</span></b></span></font></p>\n<p align="center" class="MsoNormal" style="text-align: center\;">\n	<font size="4"><span><b><span style="line-height: 115%\;">Virtual Mary Kay Blizzard Party&rdquo\;</span></b></span></font></p>\n<p class="MsoNormal">\n	<span><a href="https://www.facebook.com/events/1478366885724089" target="_blank">https://www.facebook.com/<wbr />events/1478366885724089</a></span></p>\n<span><span style="line-height: 115%\; font-family:\;">Facts and Huge Discounts while snuggled\, Participate in my Virtual Mary Kay Blizzard Party.</span></span><br />\n<br />\n<span style="line-height: 115%\; font-family:\;"><span>Every few hours I will pick a product\, post Videos\, Facts\, Tips\, and Testimonies. I will answer any questions you may have. Feel free to post and share your thoughts as we go along HAVE FUN! And watch for Special Discounts along the way.</span><br />\n<span>Enjoy your product sleigh ride savings today!</span><br />\n<br />\n<span>Mystery Hostess Gift credits and EARN FREE PRODUCTS: Invite and encourage your friends to place an ONLINE order on my website <a href="http://www.facebook.com/l.php?u=http%3A%2F%2Fwww.marykay.com%2Frford102&amp\;h=WAQGToQ_w&amp\;enc=AZOdxikRScwgSZcXCW35gghG17OJ4CbHKgRDvslgu_0cKhxcB5nTAJuy53oNXHoZvLU&amp\;s=1" target="_blank">http://www.marykay.com/<wbr />rford102</a> between now and Thursday midnight (be sure to have them mention your name as their Hostess on checkout) for additional entries.</span><br />\n<span>How this works: Your personal order will earn you one entry into the drawing for the Valentine Hostess Gift and every person you invite (they MUST list you as their Hostess on their order checkout) will earn you another entry.</span><br />\n<br />\n<span>IN ADDITION spend your Blizzard Bucks with Snow Savings!</span><br />\n<span>IF ALL your guest&rsquo\;s orders combined total is</span><br />\n<span>**** $200 or more you will earn $18 Satin Lips Set Gift free. Click this link to view this product: <a href="http://www.marykay.com/rford102/en-US/Gifts-%E2%99%A5/Satin-Lips-Set/180301.partId?eCatId=10670" target="_blank">http://www.marykay.com/<wbr />rford102/en-US/Gifts-<span style="font-family:\;">&hearts\;</span>/Satin-<wbr />Lips-Set/180301.partId?eCatId=<wbr />10670</a></span><br />\n<span>****$300 or more you will earn $34 Satin Hands Peach Set Gift free. Click this link to view this product: <a href="http://www.marykay.com/rford102/en-US/Body-Sun/Peach-Satin-Hands-Pampering-Set/160308.partId?eCatId=10001" target="_blank">http://www.marykay.com/<wbr />rford102/en-US/Body-Sun/Peach-<wbr />Satin-Hands-Pampering-Set/<wbr />160308.partId?eCatId=10001</a></span><br />\n<span>****$400 or more you will earn $50 Microdermabrasion Set Gift free. Click this link to view this product: <a href="http://www.marykay.com/rford102/en-US/Skin-Care/TimeWise-Microdermabrasion-Set/100723.partId?eCatId=10026" target="_blank">http://www.marykay.com/<wbr />rford102/en-US/Skin-Care/<wbr />TimeWise-Microdermabrasion-<wbr />Set/100723.partId?eCatId=10026</a></span><br />\n<span>****$500 or more you will earn $90 TimeWise Miracle Set Gift free. Click this link to view this product: <a href="http://www.facebook.com/l.php?u=http%3A%2F%2Fwww.marykay.com%2Frford102%2Fen-US%2FSkin-Care%2FTimeWise-Miracle-Set-normal%2Fdry-%2F100752.partId%3FeCatId%3D10026&amp\;h=LAQGjRo4I&amp\;enc=AZNEZRrUz_J7q6X_ZrObnxDyG3Qo3KUUd9klPECLkSMPzpp4Arvk7ommFUR4PTQwQoA&amp\;s=1" target="_blank">http://www.marykay.com/<wbr />rford102/en-US/Skin-Care/<wbr />TimeWise-Miracle-Set-normal/<wbr />dry-/100752.partId?eCatId=<wbr />10026</a></span><br />\n<br />\n<span>Try to invite as many people as you can to earn you greater savings. Simply share this event with your friends (who currently are not serviced by a Mary Kay Consultant) and be sure to have them list you as their Hostess. They in turn can invite their friends and earn the same.</span><br />\n<br />\n<span>HAVE FUN and many ANTI-Aging blessings are in store for you &ndash\; STAY WARM and hydrate your skin. Happy Snow Day and Safety to all!</span></span><br />\n<br clear="all" />\n<div>\n	Talk Soon and Be Blessed In ALL You Do!<br />\n	<b style="color: rgb(204\, 51\, 204)\;"><i><span style="font-family: comic sans ms\,sans-serif\;">Roberta</span></i></b><br />\n	<a href="http://www.marykay.com/rford102" target="_blank">http://www.marykay.com/rford<font size="1">10<wbr />2</font></a><br />\n	<font face="comic sans ms\, sans-serif"><font color="#000000">Shop with me online 24/7&nbsp\;&nbsp\; </font></font><br />\n	<font><b><a href="tel:706.897.0245" target="_blank" value="+17068970245">706.897.0245</a></b></font></div>\n<font><a href="https://www.facebook.com/roberta.ford2" target="_blank">https://www.facebook.com/<wbr />roberta.ford2</a></font><br />\nAdopt-a-Grandparent for Christmas 2014<br />\n<font><b><span><a href="https://www.facebook.com/Adopt.a.Grandparent.NOGA" rel="nofollow" target="_blank">https://www.facebook.com/<wbr />Adopt.a.Grandparent.NOGA</a></span></b></font>
LOCATION:Facebook and website
UID:e.256.22946
SEQUENCE:3
DTSTAMP:20260424T164337Z
URL:https://members.visitblairsvillega.com/events/details/blizzard-party-02-11-2014-22946
END:VEVENT

END:VCALENDAR
