BEGIN:VCALENDAR
VERSION:2.0
PRODID:-//ChamberMaster//Event Calendar 2.0//EN
METHOD:PUBLISH
X-PUBLISHED-TTL:P3D
REFRESH-INTERVAL:P3D
CALSCALE:GREGORIAN
BEGIN:VEVENT
DTSTART:20150119T230000Z
DTEND:20150120T000000Z
X-MICROSOFT-CDO-ALLDAYEVENT:FALSE
SUMMARY:Blood Mountain "We Are Still Here" Project Debut
DESCRIPTION:Come to see the video debut and discussion on the Blood Mountain "We Are Still Here" project. This year\, Blairsville\, Georgia will bring the attention of the Nation upon our community as we host four heads of sovereign nations while commemorating their peoples as the original inhabitants of Union County and North Georgia.  The focal point of the project is a bronze statue currently being designed by nationally renowned Pawnee/Cherokee artist\, Daniel Horsechief of Sallissaw\, Oklahoma.\n\n \n\nA community project that began under the auspices of Leadership Union is working closely with the tribal officials of the United Keetoowah Band\, the Cherokee Nation and the Muskogee-Creek Nations all of Oklahoma\, and the Eastern Band of Cherokee Indians of North Carolina.
X-ALT-DESC;FMTTYPE=text/html:Come to see the video debut and discussion on the Blood Mountain &quot\;We Are Still Here&quot\; project. <span style="font-family:arial\,sans-serif\;">This year\, Blairsville\, Georgia will bring the attention of the Nation upon our community as we host four heads of sovereign nations while commemorating their peoples as the original inhabitants of Union County and North Georgia.&nbsp\; The focal point of the project is a bronze statue currently being designed by nationally renowned Pawnee/Cherokee artist\, Daniel Horsechief of Sallissaw\, Oklahoma.</span><br />\n&nbsp\;<br />\n<span style="font-family:arial\,sans-serif\;">A community project that began under the auspices of Leadership Union is working closely with the tribal officials of the United Keetoowah Band\, the Cherokee Nation and the Muskogee-Creek Nations all of Oklahoma\, and the Eastern Band of Cherokee Indians of North Carolina.</span><br />\n&nbsp\;
LOCATION:Civic Center 165 Wellborn St
UID:e.256.33621
SEQUENCE:3
DTSTAMP:20260424T003158Z
URL:https://members.visitblairsvillega.com/events/details/blood-mountain-we-are-still-here-project-debut-01-19-2015-33621
END:VEVENT

END:VCALENDAR
