BEGIN:VCALENDAR
VERSION:2.0
PRODID:-//ChamberMaster//Event Calendar 2.0//EN
METHOD:PUBLISH
X-PUBLISHED-TTL:P3D
REFRESH-INTERVAL:P3D
CALSCALE:GREGORIAN
BEGIN:VEVENT
DTSTART:20150529T150000Z
DTEND:20150529T220000Z
X-MICROSOFT-CDO-ALLDAYEVENT:FALSE
SUMMARY:Bloom Festival
DESCRIPTION:As the vineyards vines burst into bloom\, Odom Springs Vineyards invites you to a Tuscany themed weekend. Enjoy 4 free tastings paired with complimentary appetizers. Three light tuscany themed lunches will be available for purchase.
X-ALT-DESC;FMTTYPE=text/html:As the vineyards vines burst into bloom\, Odom Springs Vineyards invites you to a Tuscany themed weekend. Enjoy 4 free tastings paired with complimentary appetizers. Three light tuscany themed lunches will be available for purchase.
LOCATION:Odom Springs Vineyards 637 Odom Rd\, Blairsville\, GA 30512
UID:e.256.40297
SEQUENCE:3
DTSTAMP:20260423T195254Z
URL:https://members.visitblairsvillega.com/events/details/bloom-festival-05-29-2015-40297
END:VEVENT

END:VCALENDAR
