BEGIN:VCALENDAR
VERSION:2.0
PRODID:-//ChamberMaster//Event Calendar 2.0//EN
METHOD:PUBLISH
X-PUBLISHED-TTL:P3D
REFRESH-INTERVAL:P3D
CALSCALE:GREGORIAN
BEGIN:VEVENT
DTSTART:20161104T220000Z
DTEND:20161105T000000Z
X-MICROSOFT-CDO-ALLDAYEVENT:FALSE
SUMMARY:Blue and Gold Auction
DESCRIPTION:Sponsored by:  Union County FFA\; Consignment accepted!!  Anyone can buy or sell.  Small animal consignments check-in at 5:00 pm on Friday and sell on first come-first serve basis
X-ALT-DESC;FMTTYPE=text/html:Sponsored by: &nbsp\;Union County FFA\; Consignment accepted!! &nbsp\;Anyone can buy or sell. &nbsp\;Small animal consignments check-in at 5:00 pm on Friday and sell on first come-first serve basis
LOCATION:Union County Farmers Market\, Blairsville GA
UID:e.256.59718
SEQUENCE:3
DTSTAMP:20260420T125616Z
URL:https://members.visitblairsvillega.com/events/details/blue-and-gold-auction-59718
END:VEVENT

END:VCALENDAR
