BEGIN:VCALENDAR
VERSION:2.0
PRODID:-//ChamberMaster//Event Calendar 2.0//EN
METHOD:PUBLISH
X-PUBLISHED-TTL:P3D
REFRESH-INTERVAL:P3D
CALSCALE:GREGORIAN
BEGIN:VEVENT
DTSTART:20161105T140000Z
DTEND:20161105T200000Z
X-MICROSOFT-CDO-ALLDAYEVENT:FALSE
SUMMARY:Blue and Gold Auction
DESCRIPTION:Sponsored by:  Union County FFA\; Consignment accepted!!  Anyone can buy or sell.  Equipment may be checked in starting the Monday prior to the sale between the hours of 1:00 pm and 6:00 pm or by appointment.
X-ALT-DESC;FMTTYPE=text/html:Sponsored by: &nbsp\;Union County FFA\; Consignment accepted!! &nbsp\;Anyone can buy or sell. &nbsp\;Equipment may be checked in starting the Monday prior to the sale between the hours of 1:00 pm and 6:00 pm or by appointment.
LOCATION:Union County Farmers Market\, Blairsville GA
UID:e.256.59719
SEQUENCE:3
DTSTAMP:20260420T112732Z
URL:https://members.visitblairsvillega.com/events/details/blue-and-gold-auction-59719
END:VEVENT

END:VCALENDAR
