BEGIN:VCALENDAR
VERSION:2.0
PRODID:-//ChamberMaster//Event Calendar 2.0//EN
METHOD:PUBLISH
X-PUBLISHED-TTL:P3D
REFRESH-INTERVAL:P3D
CALSCALE:GREGORIAN
BEGIN:VEVENT
DTSTART:20170819T140000Z
DTEND:20170819T220000Z
X-MICROSOFT-CDO-ALLDAYEVENT:FALSE
SUMMARY:Blue Ridge Cotton Co - Blairsville "Back to School Event"
DESCRIPTION:Blue Ridge Cotton Company - Blairsville will be hosting a "Back to School Event" to benefit Goodies from the Heart Weekend Food Program.  10% of all sales at the shop will be donated to Goodies from the Heart.  We will also be accepting individual food items from now through the day of the event.  Items needed include granola bars\, fruit cups\, Pop Tarts\, raisins\, snack crackers\, pudding cups\, juice pouches\, and other individual portion foods
X-ALT-DESC;FMTTYPE=text/html:Blue Ridge Cotton Company - Blairsville will be hosting a &quot\;Back to School Event&quot\; to benefit Goodies from the Heart Weekend Food Program.&nbsp\; 10% of all sales at the shop will be donated to Goodies from the Heart.&nbsp\; We will also be accepting individual food items from now through the day of the event.&nbsp\; Items needed include granola bars\, fruit cups\, Pop Tarts\, raisins\, snack crackers\, pudding cups\, juice pouches\, and other individual portion foods
LOCATION:Blue Ridge Cotton Company - Blairsville 35 Blue Ridge St. Blairsville\, GA 30512
UID:e.256.75397
SEQUENCE:3
DTSTAMP:20260419T211030Z
URL:https://members.visitblairsvillega.com/events/details/blue-ridge-cotton-co-blairsville-back-to-school-event-75397
END:VEVENT

END:VCALENDAR
