BEGIN:VCALENDAR
VERSION:2.0
PRODID:-//ChamberMaster//Event Calendar 2.0//EN
METHOD:PUBLISH
X-PUBLISHED-TTL:P3D
REFRESH-INTERVAL:P3D
CALSCALE:GREGORIAN
BEGIN:VEVENT
DTSTART:20170617T180000Z
DTEND:20170618T020000Z
X-MICROSOFT-CDO-ALLDAYEVENT:FALSE
SUMMARY:Blue Ridge Mountain Wine and Jazz Festival
DESCRIPTION:Attention Wine and Jazz Lovers!\n\n \n\nKharisma Entertainment and TeaTrees Boutique Spa is pleased to announce:\n\n \n\nThe Blue Ridge Mountain Wine and Jazz Festival has scheduled its 3rd Annual Event for Saturday\, June 17\, 2017!  Bring your chairs or blanket for an evening under the stars\; to enjoy beautiful music\, a diverse list of wines and tastings\, gourmet foods\, and the arts.  Join us\, and together\, we will create a fantastic afternoon and evening!  The focus for the Blue Ridge Mountain Wine & Jazz Festival is for the North Georgia Mountains to be recognized as "A Cultural Tourism Destination" and to provide opportunities for students of jazz music!  Gate opens at 2:00 p.m. at 58 Boardtown Road (an outdoor venue) and accessed from either Highway 515\, just south of Blue Ridge\, or East 1st Street from downtown Blue Ridge.  Please put us on your Event Schedule for 2017 and visit http://www.blueridgewineandjazz.com for map\, directions and all its information.  Also\, to become a Sponsor or Vendor\, visit us at http://www.blueridgewineandjazz.com.
X-ALT-DESC;FMTTYPE=text/html:<strong><span style="font-size:20pt">&nbsp\;&nbsp\;&nbsp\;&nbsp\;&nbsp\;&nbsp\;&nbsp\;&nbsp\;&nbsp\;&nbsp\;&nbsp\;<span style="font-size:20px\;">Attention Wine and Jazz Lovers!</span></span></strong><br />\n&nbsp\;<br />\n<strong><span style="font-size:12pt">Kharisma Entertainment and TeaTrees Boutique Spa is pleased to announce:</span></strong><br />\n&nbsp\;<br />\n<strong><span style="font-size:12pt">The Blue Ridge Mountain Wine and Jazz Festival</span></strong><span style="font-size:12pt"> has scheduled its 3<sup>rd</sup> Annual Event for <strong>Saturday\, June 17\, 2017!</strong>&nbsp\; Bring your chairs or blanket for an evening under the stars\; to enjoy beautiful music\, a diverse list of wines and tastings\, gourmet foods\, and the arts.&nbsp\; Join us\, and together\, we will create a fantastic afternoon and evening!&nbsp\; The focus for the Blue Ridge Mountain Wine &amp\; Jazz Festival is for the North Georgia Mountains to be recognized as <strong>&ldquo\;A</strong> <strong>Cultural Tourism Destination&rdquo\;</strong> and to provide opportunities for <strong>students of jazz music</strong>!&nbsp\; Gate opens at 2:00 p.m. at 58 Boardtown Road (an outdoor venue) and accessed from either Highway 515\, just south of Blue Ridge\, or East 1<sup>st</sup> Street from downtown Blue Ridge.&nbsp\; Please put us on your Event Schedule for 2017 and visit </span><a href="http://www.blueridgewineandjazz.com/"><span style="font-size:12pt"><span style="font-family:calibri"><span style="color:#0563c1">http://www.blueridgewineandjazz.com</span></span></span></a><span style="font-size:12pt"> for map\, directions and all its information.&nbsp\; Also\, to become a <strong>Sponsor or Vendor</strong>\, visit us at </span><a href="http://www.blueridgewineandjazz.com/"><span style="font-size:12pt"><span style="font-family:calibri"><span style="color:#0563c1">http://www.blueridgewineandjazz.com</span></span></span></a><span style="font-size:12pt">.&nbsp\; </span><br />\n&nbsp\;
LOCATION:58 Boardtown Road (an outdoor venue) and accessed from either Highway 515\, just south of Blue Ridge\, or East 1st Street from downtown Blue Ridge.
UID:e.256.69036
SEQUENCE:3
DTSTAMP:20260420T004506Z
URL:https://members.visitblairsvillega.com/events/details/blue-ridge-mountain-wine-and-jazz-festival-69036
END:VEVENT

END:VCALENDAR
