BEGIN:VCALENDAR
VERSION:2.0
PRODID:-//ChamberMaster//Event Calendar 2.0//EN
METHOD:PUBLISH
X-PUBLISHED-TTL:P3D
REFRESH-INTERVAL:P3D
CALSCALE:GREGORIAN
BEGIN:VEVENT
DTSTART:20151002T140000Z
DTEND:20151002T220000Z
X-MICROSOFT-CDO-ALLDAYEVENT:FALSE
SUMMARY:Blue Ridge Mountains Photographers National Juried Show
DESCRIPTION:This annual juried show is open to both amateur and professional photographers in film or digital photography.  Cash prizes totaling over $3000.  For more information and entry deadlines please contact the Art Center.  Opening reception\, September 5\, 5-7pm.  Submission deadline is July 10\, 2015\n\nClosed on Mondays
X-ALT-DESC;FMTTYPE=text/html:<span style="font-size:12pt"><span style="font-family:adobe caslon pro bold\,serif">This annual juried show is open to both amateur and professional photographers in film or digital photography.&nbsp\; Cash prizes totaling over $3000. &nbsp\;For more information and entry deadlines please contact the Art Center. &nbsp\;Opening reception\, September 5\, 5-7pm.&nbsp\; Submission deadline is July 10\, 2015</span></span><br />\nClosed on Mondays
LOCATION:The Art Center (Blue Ridge Mountains Arts Association) 420 West Main Street Blue Ridge\, GA 30513
UID:e.256.39119
SEQUENCE:3
DTSTAMP:20260423T104146Z
URL:https://members.visitblairsvillega.com/events/details/blue-ridge-mountains-photographers-national-juried-show-10-02-2015-39119
END:VEVENT

END:VCALENDAR
