BEGIN:VCALENDAR
VERSION:2.0
PRODID:-//ChamberMaster//Event Calendar 2.0//EN
METHOD:PUBLISH
X-PUBLISHED-TTL:P3D
REFRESH-INTERVAL:P3D
CALSCALE:GREGORIAN
BEGIN:VEVENT
DTSTART:20151208T233000Z
DTEND:20151209T003000Z
X-MICROSOFT-CDO-ALLDAYEVENT:FALSE
SUMMARY:Blue Ridge Mt. Jeepers Monthly Meeting
DESCRIPTION:Second Tuesday of each month:\n\nBlue Ridge Mt. Jeepers\n\nSteve's Steakhouse @  6:30pm
X-ALT-DESC;FMTTYPE=text/html:Second Tuesday of each month:<br />\nBlue Ridge Mt. Jeepers<br />\nSteve&#39\;s Steakhouse @ &nbsp\;6:30pm
LOCATION:Steve's Steakhouse Blairsville
UID:e.256.27714
SEQUENCE:3
DTSTAMP:20260421T074526Z
URL:https://members.visitblairsvillega.com/events/details/blue-ridge-mt-jeepers-monthly-meeting-12-08-2015-27714
END:VEVENT

END:VCALENDAR
