BEGIN:VCALENDAR
VERSION:2.0
PRODID:-//ChamberMaster//Event Calendar 2.0//EN
METHOD:PUBLISH
X-PUBLISHED-TTL:P3D
REFRESH-INTERVAL:P3D
CALSCALE:GREGORIAN
BEGIN:VEVENT
DTSTART:20150620T150000Z
DTEND:20150620T230000Z
X-MICROSOFT-CDO-ALLDAYEVENT:FALSE
SUMMARY:Blue Ridge SummerFest
DESCRIPTION:Come celebrate the start of summer\, creativity\, music and fun at our 1st Annual SummerFest Fundraiser. Enjoy live music\, chalk walk contest\, variety of food vendors\, and creative fun & games for all ages! Admission is free with ticket purchases available to participate in some activities. SummerFest hours are 11am-7pm in the downtown Blue Ridge City Park.  This event is a fundraiser for the Blue Ridge Mountains Arts Association\, a 501(c) 3 non-profit arts council. Donations will be accepted.\n\nChalk walk participation\, $10.
X-ALT-DESC;FMTTYPE=text/html:<span style="font-size:12pt"><span style="font-family:adobe caslon pro bold\,serif">Come celebrate the start of summer\, creativity\, music and fun at our 1<sup>st</sup> Annual SummerFest Fundraiser. Enjoy live music\, chalk walk contest\, variety of food vendors\, and creative fun &amp\; games for all ages! Admission is free with ticket purchases available to participate in some activities. SummerFest hours are 11am-7pm in the downtown Blue Ridge City Park.&nbsp\; This event is a fundraiser for the Blue Ridge Mountains Arts Association\, a 501(c) 3 non-profit arts council. Donations will be accepted.</span></span><br />\nChalk walk participation\, $10.
LOCATION:The Art Center (Blue Ridge Mountains Arts Association) 420 West Main Street Blue Ridge\, GA 30513
UID:e.256.38147
SEQUENCE:3
DTSTAMP:20260423T182149Z
URL:https://members.visitblairsvillega.com/events/details/blue-ridge-summerfest-06-20-2015-38147
END:VEVENT

END:VCALENDAR
