BEGIN:VCALENDAR
VERSION:2.0
PRODID:-//ChamberMaster//Event Calendar 2.0//EN
METHOD:PUBLISH
X-PUBLISHED-TTL:P3D
REFRESH-INTERVAL:P3D
CALSCALE:GREGORIAN
BEGIN:VEVENT
DTSTART:20141127T130000Z
DTEND:20141127T143000Z
X-MICROSOFT-CDO-ALLDAYEVENT:FALSE
SUMMARY:Blue Ridge Turkey Trot
DESCRIPTION:Join us downtown Blue Ridge\, GA for the annual Turkey Trot Race/Walk Thanksgiving Day\, November 27th! The race is for the whole family and all abilities from walkers to the serious competitor. Don't worry you will be home in time to put the turkey in the oven!
X-ALT-DESC;FMTTYPE=text/html:Join us downtown Blue Ridge\, GA for the annual Turkey Trot Race/Walk Thanksgiving Day\, November 27th! The race is for the whole family and all abilities from walkers to the serious competitor. Don&#39\;t worry you will be home in time to put the turkey in the oven!
LOCATION:Blue Ridge GA At the cross section of East Main Street and Church Street
UID:e.256.27306
SEQUENCE:3
DTSTAMP:20260424T033455Z
URL:https://members.visitblairsvillega.com/events/details/blue-ridge-turkey-trot-11-27-2014-27306
END:VEVENT

END:VCALENDAR
