BEGIN:VCALENDAR
VERSION:2.0
PRODID:-//ChamberMaster//Event Calendar 2.0//EN
METHOD:PUBLISH
X-PUBLISHED-TTL:P3D
REFRESH-INTERVAL:P3D
CALSCALE:GREGORIAN
BEGIN:VEVENT
DTSTART:20140405T143000Z
DTEND:20140405T210000Z
X-MICROSOFT-CDO-ALLDAYEVENT:FALSE
SUMMARY:Blue Ridge Writers' Conference
DESCRIPTION:Writers will learn to hone their skills and expand their markets at the 17th Annual 2014 Blue Ridge Writers' Conference the weekend of April 4\, 5\, 2014  in Blue Ridge\, Georgia at the Blue Ridge Mountains Arts Association location. Workshop Intensive and Meet & Greet are on April 4th. Conference takes place on April 5th.
X-ALT-DESC;FMTTYPE=text/html:<span style="font-size: 12pt\;"><span style="font-family: adobe caslon pro bold\,serif\;">Writers will learn to hone their skills and expand their markets at the 17th Annual 2014 Blue Ridge Writers&rsquo\; Conference the weekend of April 4\, 5\, 2014 &nbsp\;in Blue Ridge\, Georgia at the Blue Ridge Mountains Arts Association location. Workshop Intensive and Meet &amp\; Greet are on April 4<sup>th</sup>. Conference takes place on April 5<sup>th</sup>. </span></span><br />\n&nbsp\;
LOCATION:Blue Ridge Mountains Arts Association (The Art Center) 420 West Main Street Blue Ridge\, GA 30513
UID:e.256.22339
SEQUENCE:3
DTSTAMP:20260424T133424Z
URL:https://members.visitblairsvillega.com/events/details/blue-ridge-writers-conference-04-05-2014-22339
END:VEVENT

END:VCALENDAR
