BEGIN:VCALENDAR
VERSION:2.0
PRODID:-//ChamberMaster//Event Calendar 2.0//EN
METHOD:PUBLISH
X-PUBLISHED-TTL:P3D
REFRESH-INTERVAL:P3D
CALSCALE:GREGORIAN
BEGIN:VEVENT
DTSTART:20160408T143000Z
DTEND:20160408T210000Z
X-MICROSOFT-CDO-ALLDAYEVENT:FALSE
SUMMARY:Blue Ridge Writers' Conference
DESCRIPTION:Writers will learn to hone their skills\, network with fellow writers\, and expand their markets at the 19th Annual  Blue Ridge Writers? Conference hosted by the Blue Ridge Mountains Arts Association. Begin your conference with a Workshop Intensive held on Friday\, April 8 at the Art Center from 10:30am-2:30pm and join us for a Writers? Meet and Greet also on the 8th from 5-6pm. Writers? Conference sessions take place on Saturday\, April 9 from 9am-5pm.
X-ALT-DESC;FMTTYPE=text/html:<span style="font-size: 12pt\;"><span style="font-family: adobe caslon pro bold\,serif\;">Writers will learn to hone their skills\, network with fellow writers\, and expand their markets at the 19th Annual&nbsp\; Blue Ridge Writers? Conference hosted by the Blue Ridge Mountains Arts Association. Begin your conference with a Workshop Intensive held on Friday\, April 8 at the Art Center from 10:30am-2:30pm and join us for a Writers? Meet and Greet also on the 8<sup>th</sup> from 5-6pm. Writers? Conference sessions take place on Saturday\, April 9 from 9am-5pm.&nbsp\; </span></span><br>\n&nbsp\;
LOCATION:The Art Center (Blue Ridge Mountains Arts Association) 420 West Main Street\, Blue Ridge\, GA
UID:e.256.50655
SEQUENCE:3
DTSTAMP:20260421T002149Z
URL:https://members.visitblairsvillega.com/events/details/blue-ridge-writers-conference-04-08-2016-50655
END:VEVENT

END:VCALENDAR
