BEGIN:VCALENDAR
VERSION:2.0
PRODID:-//ChamberMaster//Event Calendar 2.0//EN
METHOD:PUBLISH
X-PUBLISHED-TTL:P3D
REFRESH-INTERVAL:P3D
CALSCALE:GREGORIAN
BEGIN:VEVENT
DTSTART:20170407T130000Z
DTEND:20170408T210000Z
X-MICROSOFT-CDO-ALLDAYEVENT:FALSE
SUMMARY:Blue Ridge Writers' Conference
DESCRIPTION:The purpose of the Blue Ridge Writers' Conference is to educate\, inform and inspire writers. During this conference writers will network with fellow writers\, expand their markets and learn to hone their skills in various break out sessions. The 20th annual conference begins with a Workshop Intensive held on Friday\, April 7 from 10:30am-2:30pm. A Writers' Meet and Greet will take place that evening at 5pm. Writers' Conference sessions take place on Saturday\, April 8  from 9am-5pm.  Books sales from our conference speakers and member writers will also be made available both days.
X-ALT-DESC;FMTTYPE=text/html:<span style="font-size:12pt"><span style="font-family:adobe caslon pro bold\,serif">The purpose of the Blue Ridge Writers&rsquo\; Conference is to educate\, inform and inspire writers. During this conference writers will network with fellow writers\, expand their markets and learn to hone their skills in various break out sessions. The 20<sup>th</sup> annual conference begins with a Workshop Intensive held on Friday\, April 7 from 10:30am-2:30pm. A Writers&rsquo\; Meet and Greet will take place that evening at 5pm. Writers&rsquo\; Conference sessions take place on Saturday\, April 8 &nbsp\;from 9am-5pm.&nbsp\; Books sales from our conference speakers and member writers will also be made available both days.</span></span><br />\n&nbsp\;<br />\n&nbsp\;<br />\n&nbsp\;
LOCATION:The Art Center 420 West Main Street Blue Ridge\, GA 30513
UID:e.256.65459
SEQUENCE:3
DTSTAMP:20260420T042231Z
URL:https://members.visitblairsvillega.com/events/details/blue-ridge-writers-conference-65459
END:VEVENT

END:VCALENDAR
