BEGIN:VCALENDAR
VERSION:2.0
PRODID:-//ChamberMaster//Event Calendar 2.0//EN
METHOD:PUBLISH
X-PUBLISHED-TTL:P3D
REFRESH-INTERVAL:P3D
CALSCALE:GREGORIAN
BEGIN:VEVENT
DTSTART:20150422T163000Z
DTEND:20150422T164500Z
X-MICROSOFT-CDO-ALLDAYEVENT:FALSE
SUMMARY:Blueprint For Life
DESCRIPTION:Pastor Marty Duncan with The Fellowship of the Hills Church will be bringing you a daily inspirational message on WUCG 93.1.
X-ALT-DESC;FMTTYPE=text/html:Pastor Marty Duncan with The Fellowship of the Hills Church will be bringing you a daily inspirational message on WUCG 93.1.
LOCATION:WUCG 93.1 Community Radio http://www.wucg.org
UID:e.256.36256
SEQUENCE:3
DTSTAMP:20260423T200143Z
URL:https://members.visitblairsvillega.com/events/details/blueprint-for-life-04-22-2015-36256
END:VEVENT

END:VCALENDAR
