BEGIN:VCALENDAR
VERSION:2.0
PRODID:-//ChamberMaster//Event Calendar 2.0//EN
METHOD:PUBLISH
X-PUBLISHED-TTL:P3D
REFRESH-INTERVAL:P3D
CALSCALE:GREGORIAN
BEGIN:VEVENT
DTSTART:20150522T220000Z
DTEND:20150523T010000Z
X-MICROSOFT-CDO-ALLDAYEVENT:FALSE
SUMMARY:BLUES & BBQ at Monet's
DESCRIPTION:Blues & BBQ featuring D.W. Musselwhite & The Crew
X-ALT-DESC;FMTTYPE=text/html:Blues &amp\; BBQ featuring D.W. Musselwhite &amp\; The Crew
LOCATION:Monet's Italian Grill 130 Blue Ridge Street Blairsville\, GA 30512
UID:e.256.40274
SEQUENCE:3
DTSTAMP:20260423T182237Z
URL:https://members.visitblairsvillega.com/events/details/blues-bbq-at-monet-s-05-22-2015-40274
END:VEVENT

END:VCALENDAR
