BEGIN:VCALENDAR
VERSION:2.0
PRODID:-//ChamberMaster//Event Calendar 2.0//EN
METHOD:PUBLISH
X-PUBLISHED-TTL:P3D
REFRESH-INTERVAL:P3D
CALSCALE:GREGORIAN
BEGIN:VEVENT
DTSTART:20150129T140000Z
DTEND:20150129T163000Z
X-MICROSOFT-CDO-ALLDAYEVENT:FALSE
SUMMARY:Board Member Training Workshop
DESCRIPTION:Non-profit boards are most effective when board members understand their role and responsibilities and use their collective resources for the benefit of those they serve. The Towns and Blairsville-Union Chambers are hosting a training workshop for board members.\n\n \n\nThis workshop is open to all non-profits and will cover board role and responsibilities\, board governance\, internal board operations\, as well as conducting productive and effective meetings. This training is open to board members and board officers of non-profit boards.
X-ALT-DESC;FMTTYPE=text/html:<span _mce_style="font-size: 10pt\;" style="font-size: 10pt\;">Non-profit boards are most effective when board members understand their role and responsibilities and use their collective resources for the benefit of those they serve. The Towns and Blairsville-Union Chambers are hosting a training workshop for board members.</span>\n\n<p _mce_style="margin-top: 0px\; margin-bottom: 0px\; font-size: 10pt\; text-align: center\;" align="center" style="text-align: center\; font-size: 10pt\; margin-top: 0px\; margin-bottom: 0px\;">&nbsp\;</p>\n\n<p _mce_style="margin-top: 0px\; margin-bottom: 0px\; font-size: 10pt\;" style="font-size: 10pt\; margin-top: 0px\; margin-bottom: 0px\;"><span>This workshop is open to all non-profits and will cover board role and responsibilities\, board governance\, internal board operations\, as well as conducting productive and effective meetings. This training is </span>open to board members and board officers of non-profit boards.</p>\n
LOCATION:Union County Community Center 129 Union County Recreation Rd. Blairsville\, GA
UID:e.256.33616
SEQUENCE:3
DTSTAMP:20260424T002758Z
URL:https://members.visitblairsvillega.com/events/details/board-member-training-workshop-01-29-2015-33616
END:VEVENT

END:VCALENDAR
