BEGIN:VCALENDAR
VERSION:2.0
PRODID:-//ChamberMaster//Event Calendar 2.0//EN
METHOD:PUBLISH
X-PUBLISHED-TTL:P3D
REFRESH-INTERVAL:P3D
CALSCALE:GREGORIAN
BEGIN:VEVENT
DTSTART:20140205T163000Z
DTEND:20140205T183000Z
X-MICROSOFT-CDO-ALLDAYEVENT:FALSE
SUMMARY:Board of Directors Training
DESCRIPTION:Blairsville-Union County Chamber of Commerce Board Members are invited to attend a Board Training session that will cover the basics of serving on a nonprofit Board of Directors.  This session will be facilitated by attorney Mark Dehler and held in conjunction with the Towns County Chamber of Commerce.  Lunch will be provided.  Please RSVP to attend.
X-ALT-DESC;FMTTYPE=text/html:Blairsville-Union County Chamber of Commerce Board Members are invited to attend a Board Training session that will cover the basics of serving on a nonprofit Board of Directors.&nbsp\; This session will be facilitated by attorney Mark Dehler and held in conjunction with the Towns County Chamber of Commerce. &nbsp\;Lunch will be provided.&nbsp\; Please RSVP to attend.
LOCATION:Union County Community Center Upstairs Ballroom
UID:e.256.22882
SEQUENCE:3
DTSTAMP:20260424T165224Z
URL:https://members.visitblairsvillega.com/events/details/board-of-directors-training-02-05-2014-22882
END:VEVENT

END:VCALENDAR
