BEGIN:VCALENDAR
VERSION:2.0
PRODID:-//ChamberMaster//Event Calendar 2.0//EN
METHOD:PUBLISH
X-PUBLISHED-TTL:P3D
REFRESH-INTERVAL:P3D
CALSCALE:GREGORIAN
BEGIN:VEVENT
DTSTART:20160514T230000Z
DTEND:20160515T013000Z
X-MICROSOFT-CDO-ALLDAYEVENT:FALSE
SUMMARY:Boogie Night at the Senior Center
DESCRIPTION:Dance the night away to: LIVE music performed by local favorites "Borrowed Time Band" . . . Enjoy all your favorites from the 60's\, 70's\, and 80's.
X-ALT-DESC;FMTTYPE=text/html:Dance the night away to: LIVE music performed by local favorites &quot\;Borrowed Time Band&quot\; . . . Enjoy all your favorites from the 60&#39\;s\, 70&#39\;s\, and 80&#39\;s.
LOCATION:Union County Senior Center\, 95 Senior Center Drive (across from Meeks Park).
UID:e.256.51171
SEQUENCE:3
DTSTAMP:20260420T222649Z
URL:https://members.visitblairsvillega.com/events/details/boogie-night-at-the-senior-center-05-14-2016-51171
END:VEVENT

END:VCALENDAR
