BEGIN:VCALENDAR
VERSION:2.0
PRODID:-//ChamberMaster//Event Calendar 2.0//EN
METHOD:PUBLISH
X-PUBLISHED-TTL:P3D
REFRESH-INTERVAL:P3D
CALSCALE:GREGORIAN
BEGIN:VEVENT
DTSTART:20150321T170000Z
DTEND:20150321T190000Z
X-MICROSOFT-CDO-ALLDAYEVENT:FALSE
SUMMARY:Book Signing
DESCRIPTION:Book signing this Sat March 21@ the Ugly Mug Cafe in Blairsville GA.1-3 pm. Come and meet Mary Vidarte author of "PayDay2Profits An Entrepreneurs Guide to Marketing and Sales". She will be offering a free 20 minute business consultation with a purchase. If you have a business or want to start a business\, please come. You can also visit Mary on LinkedIn and Face Book. Hope to see you there!
X-ALT-DESC;FMTTYPE=text/html:Book signing this Sat March 21@ the Ugly Mug Cafe in Blairsville GA.1-3 pm. Come and meet Mary Vidarte author of &quot\;PayDay2Profits An Entrepreneurs Guide to Marketing and Sales&quot\;. She will be offering a free 20 minute business consultation with a purchase. If you have a business or want to start a business\, please come. You can also visit Mary on LinkedIn and Face Book. Hope to see you there!
LOCATION:The Ugly Mug Cafe
UID:e.256.37743
SEQUENCE:3
DTSTAMP:20260423T211711Z
URL:https://members.visitblairsvillega.com/events/details/book-signing-03-21-2015-37743
END:VEVENT

END:VCALENDAR
