BEGIN:VCALENDAR
VERSION:2.0
PRODID:-//ChamberMaster//Event Calendar 2.0//EN
METHOD:PUBLISH
X-PUBLISHED-TTL:P3D
REFRESH-INTERVAL:P3D
CALSCALE:GREGORIAN
BEGIN:VEVENT
DTSTART:20171119T190000Z
DTEND:20171119T220000Z
X-MICROSOFT-CDO-ALLDAYEVENT:FALSE
SUMMARY:Book Signing at The Flower Garden
DESCRIPTION:Come on out to The Flower Garden and support our local author James Ray Ashurst\, Ph. D. as he is promoting his third book entitled "Picking Up the Pieces - Moving On After a Significant Loss".
X-ALT-DESC;FMTTYPE=text/html:Come on out to The Flower Garden and support our local author James Ray Ashurst\, Ph. D. as he is promoting his third book entitled &quot\;Picking Up the Pieces - Moving On After a Significant Loss&quot\;.&nbsp\;&nbsp\;
LOCATION:The Flower Garden\, Cleveland Street\, Blairsville GA 30512
UID:e.256.76817
SEQUENCE:3
DTSTAMP:20260419T160325Z
URL:https://members.visitblairsvillega.com/events/details/book-signing-at-the-flower-garden-76817
END:VEVENT

END:VCALENDAR
