BEGIN:VCALENDAR
VERSION:2.0
PRODID:-//ChamberMaster//Event Calendar 2.0//EN
METHOD:PUBLISH
X-PUBLISHED-TTL:P3D
REFRESH-INTERVAL:P3D
CALSCALE:GREGORIAN
BEGIN:VEVENT
DTSTART:20160503T220000Z
DTEND:20160504T000000Z
X-MICROSOFT-CDO-ALLDAYEVENT:FALSE
SUMMARY:Boots & Bling Fundraiser for Joshua Dream Ranch
DESCRIPTION:HELP JOSHUA DREAM RANCH BUILD CHAMPIONS Please join us in this special jewelry fundraiser event to support for Joshua Dream Ranch\, featuring Premier Designs Jewelry. Purchase something sparkly for yourself or to give to someone special. Premier Designs Jewelry offers many designs and styles to suit every lady\, of any age\, any style. 25% of the retails sales from the event will be donated to Joshua Dream Ranch. Every purchase helps JDR get closer to their fundraising goals so that they can continue providing animal assisted therapy to special needs children and adults. Attend the event in person and you might be the Mystery Hostess winner of some free Premier Designs jewlery! Receive 1 ticket for every $50 you purchase at the event. Someone could win the FREE Jewelry benefits. Learn more about Joshua Dream Ranch at http://www.jdranch.org/. If you cannot attend the event but wish to support this fundraiser\, you may place an outside order with Shelby Bittenbinder or Alysia Hargus\, Premier Designs Jeweler. Browse online at AlysiaHargus.MyPremierDesigns.com.
X-ALT-DESC;FMTTYPE=text/html:HELP JOSHUA DREAM RANCH BUILD CHAMPIONS Please join us in this special jewelry fundraiser event to support for Joshua Dream Ranch\, featuring Premier Designs Jewelry. Purchase something sparkly for yourself or to give to someone special. Premier Designs Jewelry offers many designs and styles to suit every lady\, of any age\, any style. 25% of the retails sales from the event will be donated to Joshua Dream Ranch. Every purchase helps JDR get closer to their fundraising goals so that they can continue providing animal assisted therapy to special needs children and adults. Attend the event in person and you might be the Mystery Hostess winner of some free Premier Designs jewlery! Receive 1 ticket for every $50 you purchase at the event. Someone could win the FREE Jewelry benefits. Learn more about Joshua Dream Ranch at http://www.jdranch.org/. If you cannot attend the event but wish to support this fundraiser\, you may place an outside order with Shelby Bittenbinder or Alysia Hargus\, Premier Designs Jeweler. Browse online at AlysiaHargus.MyPremierDesigns.com.
LOCATION:507 Smoke Rise Ridge Blairsville\, GA 30512
UID:e.256.50934
SEQUENCE:3
DTSTAMP:20260420T222901Z
URL:https://members.visitblairsvillega.com/events/details/boots-bling-fundraiser-for-joshua-dream-ranch-05-03-2016-50934
END:VEVENT

END:VCALENDAR
