BEGIN:VCALENDAR
VERSION:2.0
PRODID:-//ChamberMaster//Event Calendar 2.0//EN
METHOD:PUBLISH
X-PUBLISHED-TTL:P3D
REFRESH-INTERVAL:P3D
CALSCALE:GREGORIAN
BEGIN:VEVENT
DTSTART:20151126T160000Z
DTEND:20151126T200000Z
X-MICROSOFT-CDO-ALLDAYEVENT:FALSE
SUMMARY:Bountiful Blessings Thanksgiving Feast at The Ridges Resort
DESCRIPTION:Join us at The Ridges Resort for our Bountiful Blessings Thanksgiving Feast. $39.95 per adult\, $19.95 per child (6-13) and 5 and under are free. Our delicious buffet feature three types of Turkey with all the sides. Visit www.theridgesresort.com/calendar-of-events for full menu. Call 706-896-2262 to make reservations which are highly recommended.
X-ALT-DESC;FMTTYPE=text/html:Join us at The Ridges Resort for our Bountiful Blessings Thanksgiving Feast. $39.95 per adult\, $19.95 per child (6-13) and 5 and under are free. Our delicious buffet feature three types of Turkey with all the sides. Visit www.theridgesresort.com/calendar-of-events for full menu. Call 706-896-2262 to make reservations which are highly recommended.&nbsp\; &nbsp\;
LOCATION:The Ridges Resort Oaks Dining Room
UID:e.256.44545
SEQUENCE:3
DTSTAMP:20260423T085702Z
URL:https://members.visitblairsvillega.com/events/details/bountiful-blessings-thanksgiving-feast-at-the-ridges-resort-11-26-2015-44545
END:VEVENT

END:VCALENDAR
