BEGIN:VCALENDAR
VERSION:2.0
PRODID:-//ChamberMaster//Event Calendar 2.0//EN
METHOD:PUBLISH
X-PUBLISHED-TTL:P3D
REFRESH-INTERVAL:P3D
CALSCALE:GREGORIAN
BEGIN:VEVENT
DTSTART:20161021T220000Z
DTEND:20161022T000000Z
X-MICROSOFT-CDO-ALLDAYEVENT:FALSE
SUMMARY:Bowling\, Blessings & Bling!
DESCRIPTION:Join us for an evening of Bowling\, Blessings & Bling!!! A Premier Designs Jewelry Fundraiser Event to benefit The Women's Enrichment Center of Blairsville\; Hosted by Dee Tyler of Galaxy Bowling of Blairsville\, GA. Add some SPARKLE to your Fall and Holiday wardrobe And support women in need in our community.    25% of the Retail Sales from this Event will be donated to the Women's Enrichment Center in Blairsville\, GA.    Earn Chances to WIN FREE Jewelry with every $40 spent on your jewelry order. EARN CHANCES TO WIN A PRIZE from Alysia Hargus of Premier Designs Jewelry.   Arrive on-time   Wear a solid color top   Schedule a future jewelry style session with Alysia this Fall. FOR MORE INFORMATION ON HOW YOU CAN SUPPORT THIS FUNDRAISER OR TO RSVP\, PLEASE CONTACT ALYSIA HARGUS\, Independent Distributor Premier Designs Jewelry (706) 994-9711 Browse the Premier Designs Jewelry collections online at: AlysiaHargus.MyPremierDesigns.com Can't Make It??? Be sure to ask Alysia how you can place an outside order that to benefit this fundraiser.
X-ALT-DESC;FMTTYPE=text/html:Join us for an evening of Bowling\, Blessings &amp\; Bling!!! A Premier Designs Jewelry Fundraiser Event to benefit The Women&rsquo\;s Enrichment Center of Blairsville\; Hosted by Dee Tyler of Galaxy Bowling of Blairsville\, GA. Add some SPARKLE to your Fall and Holiday wardrobe And support women in need in our community. &gt\;&gt\; 25% of the Retail Sales from this Event will be donated to the Women&rsquo\;s Enrichment Center in Blairsville\, GA. &gt\;&gt\; Earn Chances to WIN FREE Jewelry with every $40 spent on your jewelry order. EARN CHANCES TO WIN A PRIZE from Alysia Hargus of Premier Designs Jewelry. &gt\; Arrive on-time &gt\; Wear a solid color top &gt\; Schedule a future jewelry style session with Alysia this Fall. FOR MORE INFORMATION ON HOW YOU CAN SUPPORT THIS FUNDRAISER OR TO RSVP\, PLEASE CONTACT ALYSIA HARGUS\, Independent Distributor Premier Designs Jewelry (706) 994-9711 Browse the Premier Designs Jewelry collections online at: AlysiaHargus.MyPremierDesigns.com Can&#39\;t Make It??? Be sure to ask Alysia how you can place an outside order that to benefit this fundraiser.
LOCATION:Blairsville Galaxy Bowling 104 Back Yard Ln Blairsville\, GA
UID:e.256.59308
SEQUENCE:3
DTSTAMP:20260420T130611Z
URL:https://members.visitblairsvillega.com/events/details/bowling-blessings-bling-59308
END:VEVENT

END:VCALENDAR
