BEGIN:VCALENDAR
VERSION:2.0
PRODID:-//ChamberMaster//Event Calendar 2.0//EN
METHOD:PUBLISH
X-PUBLISHED-TTL:P3D
REFRESH-INTERVAL:P3D
CALSCALE:GREGORIAN
BEGIN:VEVENT
DTSTART:20150221T000000Z
DTEND:20150221T020000Z
X-MICROSOFT-CDO-ALLDAYEVENT:FALSE
SUMMARY:Brad Kolodner at John C. Campbell Folk School
DESCRIPTION:Brad Kolodner - part of the "next generation" of great traditional banjo players
X-ALT-DESC;FMTTYPE=text/html:<div>Brad Kolodner - part of the &ldquo\;next generation&rdquo\; of great traditional banjo players</div>\n
LOCATION:Community Room at John C. Campbell Folk School Brasstown\, NC 28902
UID:e.256.33612
SEQUENCE:3
DTSTAMP:20260423T230020Z
URL:https://members.visitblairsvillega.com/events/details/brad-kolodner-at-john-c-campbell-folk-school-02-20-2015-33612
END:VEVENT

END:VCALENDAR
