BEGIN:VCALENDAR
VERSION:2.0
PRODID:-//ChamberMaster//Event Calendar 2.0//EN
METHOD:PUBLISH
X-PUBLISHED-TTL:P3D
REFRESH-INTERVAL:P3D
CALSCALE:GREGORIAN
BEGIN:VEVENT
DTSTART:20170821T160000Z
DTEND:20170821T190000Z
X-MICROSOFT-CDO-ALLDAYEVENT:FALSE
SUMMARY:Branan Lodge/Wesley Mountain Village
DESCRIPTION:Branan Lodge/Wesley Mountain Village Residents\, friends & family are invited to enjoy time together while experiencing this once in a lifetime event!
X-ALT-DESC;FMTTYPE=text/html:Branan Lodge/Wesley Mountain Village Residents\, friends &amp\; family are invited to enjoy time together while experiencing this once in a lifetime event!
LOCATION:Branan Lodge/Wesley Mountain Village 493 Wesley Mountain Drive\, Blairsville
UID:e.256.75603
SEQUENCE:3
DTSTAMP:20260419T210655Z
URL:https://members.visitblairsvillega.com/events/details/branan-lodge-wesley-mountain-village-75603
END:VEVENT

END:VCALENDAR
